BEGIN:VCALENDAR
VERSION:2.0
PRODID:-//Flor de Fango - ECPv6.15.20//NONSGML v1.0//EN
CALSCALE:GREGORIAN
METHOD:PUBLISH
X-ORIGINAL-URL:https://flordefango.nl
X-WR-CALDESC:Evenementen voor Flor de Fango
REFRESH-INTERVAL;VALUE=DURATION:PT1H
X-Robots-Tag:noindex
X-PUBLISHED-TTL:PT1H
BEGIN:VTIMEZONE
TZID:Europe/Amsterdam
BEGIN:DAYLIGHT
TZOFFSETFROM:+0100
TZOFFSETTO:+0200
TZNAME:CEST
DTSTART:20240331T010000
END:DAYLIGHT
BEGIN:STANDARD
TZOFFSETFROM:+0200
TZOFFSETTO:+0100
TZNAME:CET
DTSTART:20241027T010000
END:STANDARD
BEGIN:DAYLIGHT
TZOFFSETFROM:+0100
TZOFFSETTO:+0200
TZNAME:CEST
DTSTART:20250330T010000
END:DAYLIGHT
BEGIN:STANDARD
TZOFFSETFROM:+0200
TZOFFSETTO:+0100
TZNAME:CET
DTSTART:20251026T010000
END:STANDARD
BEGIN:DAYLIGHT
TZOFFSETFROM:+0100
TZOFFSETTO:+0200
TZNAME:CEST
DTSTART:20260329T010000
END:DAYLIGHT
BEGIN:STANDARD
TZOFFSETFROM:+0200
TZOFFSETTO:+0100
TZNAME:CET
DTSTART:20261025T010000
END:STANDARD
END:VTIMEZONE
BEGIN:VEVENT
DTSTART;TZID=Europe/Amsterdam:20250702T170000
DTEND;TZID=Europe/Amsterdam:20250703T000000
DTSTAMP:20260419T223123
CREATED:20250504T091507Z
LAST-MODIFIED:20250513T112930Z
UID:10000177-1751475600-1751500800@flordefango.nl
SUMMARY:WO 2 JUL - International Street Tango - DJ Sabelotodo
DESCRIPTION:International Street Tango – DJ Sabelotodo\nAl jaren organiseert Flor de Fango in de zomer buitensalons. Tussen de oude pakhuizen en naast het restaurant van Restaurant Verheyden creëert dit een bijna buitenlandse sfeer. Een plek waar we even uit de tijd kunnen stappen. Een plek om elkaar te ontmoeten. Het feit dat dansers en niet-dansers een plekje bij Restaurant Verheyden met zicht op het podium reserveren tijdens onze salon laat wel zien dat deze sfeer gewaardeerd wordt.\nRegen? Dan gaan we naar binnen. Zelfde tijd\, maar je blijft droog. \nEN: all summer long we put the door wide open and do ‘Tango in the street’ in front of the Flor de Fango dance hall. In the narrow street between the old buildings it’s a great atmosphere.\nBad weather? We go inside. Same time\, but you stay dry \nDJ Sabelotodo (Kristof Elst)\nKristof is a 100% traditional tango DJ. He combines rhythmic and lyrical tandas to create a dynamic and interesting milonga. The focus of his music lies with anything between the 1920s and 1950s although he has been known to occasionally play a later tango. \nTicket € 10\, – pay at the entrance/bar.\nJe kunt een “ Verrassingsmenu” van Eetcafé Verheyden reserveren\, met mogelijkheden voor dieetwensen. Reserveer vooraf via events@flordefango.nl\, anders geldt op=op. \nEN: You can reserve a ‘surprise’ meal at events@flordefango.nl \nStreet Tango Program\nWO 2 JUL – International Street Tango – DJ Sabelotodo\nWO 30 JUL – Summerdaze Street Tango – DJ Gerrit Huijgen\nZA 30 AUG – Modern Street Tango (Mix) – DJ /VJ Peter van Gerwen\nZA 20 SEP – Jubileum Straat Tango – DJ Joost Brunsting
URL:https://flordefango.nl/evenement/wo-2-jul-international-street-tango-dj-sabelotodo/
LOCATION:Wezenstraat 5a\, Arnhem\, 6811 CR\, Nederland
CATEGORIES:alle niveaus,Salon,Straattango - buitensalon
ATTACH;FMTTYPE=image/jpeg:https://flordefango.nl/wp-content/uploads/2025/04/2025-straattango-streettango-seizoen.jpg
END:VEVENT
BEGIN:VEVENT
DTSTART;TZID=Europe/Amsterdam:20250730T170000
DTEND;TZID=Europe/Amsterdam:20250731T000000
DTSTAMP:20260419T223123
CREATED:20250504T092037Z
LAST-MODIFIED:20250709T223301Z
UID:10000178-1753894800-1753920000@flordefango.nl
SUMMARY:WO 30 JUL - Summerdaze Street Tango - DJ Gerrit Huijgen
DESCRIPTION:Summerdaze Street Tango – DJ Gerrit Huijgen\nAl jaren organiseert Flor de Fango in de zomer buitensalons. Tussen de oude pakhuizen en naast het restaurant van Restaurant Verheyden creëert dit een bijna buitenlandse sfeer. Een plek waar we even uit de tijd kunnen stappen. Een plek om elkaar te ontmoeten. Het feit dat dansers en niet-dansers een plekje bij Restaurant Verheyden met zicht op het podium reserveren tijdens onze salon laat wel zien dat deze sfeer gewaardeerd wordt.\nRegen? Dan gaan we naar binnen. Zelfde tijd\, maar je blijft droog. \nEN: all summer long we put the door wide open and do ‘Tango in the street’ in front of the Flor de Fango dance hall. In the narrow street between the old buildings it’s a great atmosphere.\nBad weather? We go inside. Same time\, but you stay dry \n*This event is part of Summerdaze\, a do-it-yourself\, low-cost\, Tango ‘festival’ in the Arnhem-Nijmegen area. Full program: www.elcorte.com/…* \nDJ El Gerito (Gerrit Huijgen)\nGerrit richt zich op de dansers om hen op het juiste moment de juiste goed gecomponeerde tanda te geven.  \nHij speelt een selectie van muziek uit de jaren 30 tot de jaren 60\, met de nadruk op de flow in en tussen de tanda’s. Hij ‘draait’ in binnen- en buitenland\, zijn faam rijst.  \nGerrit gelooft sterk dat een goede milonga gaat over plezier\, plezier van het dansen en een fijn samenzijn\, zonder het authentieke karakter van een echte Argentijnse salón de tango te verliezen. \nTicket € 10\, – pay at the entrance/bar.\nJe kunt een “ Verrassingsmenu” van Eetcafé Verheyden reserveren\, met mogelijkheden voor dieetwensen. Reserveer vooraf via events@flordefango.nl\, anders geldt op=op. \nEN: You can reserve a ‘surprise’ meal at events@flordefango.nl \nStreet Tango Program\nWO 30 JUL – Summerdaze Street Tango – DJ Gerrit Huijgen\nZA 30 AUG – Modern Street Tango (Mix) – DJ /VJ Peter van Gerwen\nZA 20 SEP – Jubileum Straat Tango – DJ Joost Brunsting
URL:https://flordefango.nl/evenement/wo-30-jul-summerdaze-street-tango-dj-gerrit-huijgen/
LOCATION:Wezenstraat 5a\, Arnhem\, 6811 CR\, Nederland
CATEGORIES:alle niveaus,Salon,Straattango - buitensalon
ATTACH;FMTTYPE=image/jpeg:https://flordefango.nl/wp-content/uploads/2025/04/2025-straattango-streettango-seizoen.jpg
END:VEVENT
END:VCALENDAR