BEGIN:VCALENDAR
VERSION:2.0
PRODID:-//Flor de Fango - ECPv6.15.20//NONSGML v1.0//EN
CALSCALE:GREGORIAN
METHOD:PUBLISH
X-ORIGINAL-URL:https://flordefango.nl
X-WR-CALDESC:Evenementen voor Flor de Fango
REFRESH-INTERVAL;VALUE=DURATION:PT1H
X-Robots-Tag:noindex
X-PUBLISHED-TTL:PT1H
BEGIN:VTIMEZONE
TZID:Europe/Amsterdam
BEGIN:DAYLIGHT
TZOFFSETFROM:+0100
TZOFFSETTO:+0200
TZNAME:CEST
DTSTART:20230326T010000
END:DAYLIGHT
BEGIN:STANDARD
TZOFFSETFROM:+0200
TZOFFSETTO:+0100
TZNAME:CET
DTSTART:20231029T010000
END:STANDARD
BEGIN:DAYLIGHT
TZOFFSETFROM:+0100
TZOFFSETTO:+0200
TZNAME:CEST
DTSTART:20240331T010000
END:DAYLIGHT
BEGIN:STANDARD
TZOFFSETFROM:+0200
TZOFFSETTO:+0100
TZNAME:CET
DTSTART:20241027T010000
END:STANDARD
BEGIN:DAYLIGHT
TZOFFSETFROM:+0100
TZOFFSETTO:+0200
TZNAME:CEST
DTSTART:20250330T010000
END:DAYLIGHT
BEGIN:STANDARD
TZOFFSETFROM:+0200
TZOFFSETTO:+0100
TZNAME:CET
DTSTART:20251026T010000
END:STANDARD
END:VTIMEZONE
BEGIN:VEVENT
DTSTART;TZID=Europe/Amsterdam:20240622T170000
DTEND;TZID=Europe/Amsterdam:20240622T230000
DTSTAMP:20260422T180559
CREATED:20240403T175008Z
LAST-MODIFIED:20240403T175008Z
UID:10000007-1719075600-1719097200@flordefango.nl
SUMMARY:ZA 22 JUN - Midsummer Street Tango | Midzomer met DJ Christoph Ronecker
DESCRIPTION:ZA 22 JUN – Midsummer Street Tango | Midzomer met DJ Christoph Ronecker\nAl jaren organiseert Flor de Fango in de zomer buitensalons. Tussen de oude pakhuizen en naast het restaurant van Restaurant Verheyden creëert dit een bijna buitenlandse sfeer. Een plek waar we even uit de tijd kunnen stappen. Een plek om elkaar te ontmoeten. Het feit dat dansers en niet-dansers een plekje bij Restaurant Verheyden met zicht op het podium reserveren tijdens onze salon laat wel zien dat deze sfeer gewaardeerd wordt.\nRegen? Dan gaan we naar binnen. Zelfde tijd\, maar je blijft droog. Maaltijd bestellen\, zie onder. \nEN: all summer long we put the door wide open and do ‘Tango in the street’ in front of the Flor de Fango dance hall. In the narrow street between the old buildings it’s a great atmosphere.\nBad weather? We go inside. Same time\, but you stay dry \nStraattango | Tango in the street 2024 programma: https://learningpower.nl/nieuws/straattango-tango-in-the-street/ \nDJ Christoph Ronecker\n“I’ve started Tango-DJing in 1999 and today I love tango music even more\, than in my first years. I’m playing mainly tracks from the Golden Age (thirties and forties).  \nMy goal is\, that the dancers reach “flow” and enjoy a highly varied Milonga.” \nhttps://www.facebook.com/christoph.ronecker \nTickets Salon à € 10\,- te koop aan de bar\nMaaltijd:\nJe kan tot 20 juni 18:00 uur voor € 15\,- een maaltijd van Verheyden bestellen door een email te sturen naar events@flordefango.nl onder vermelding van datum\, naam en hoeveelheid. \nAan de bar kunnen nog maximaal 5 maaltijden worden besteld in verband met het gereedmaken van de maaltijden die speciaal voor Flor worden gemaakt. \nMenu: Spana-kopita\, Griekse hartige taart met filodeeg\, spinazie en feta. Brood met olie en zout en Groene salade met olijven \nEN: Ticket salon € 10\, – pay at the entrance/bar.\nYou can order a simpel meal à € 15\,- by sending an email to events@flordefango.nl before June 20\, 18:00 o’clock with date\, name and amount. \nWe have a webpage that offers tips for eating\, sleaping and traveling in/to Arnhem.
URL:https://flordefango.nl/evenement/za-22-jun-midsummer-street-tango-midzomer-met-dj-christoph-ronecker-2/
LOCATION:Wezenstraat 5a\, Arnhem\, 6811 CR\, Nederland
CATEGORIES:alle niveaus,Salon,Straattango - buitensalon
END:VEVENT
BEGIN:VEVENT
DTSTART;TZID=Europe/Amsterdam:20240629T170000
DTEND;TZID=Europe/Amsterdam:20240629T230000
DTSTAMP:20260422T180559
CREATED:20240403T175316Z
LAST-MODIFIED:20240403T175316Z
UID:10000008-1719680400-1719702000@flordefango.nl
SUMMARY:ZA 29 JUN - Modern Street Tango met DJ Mi Cielo
DESCRIPTION:Modern Street Tango met DJ Mi Cielo\nAl jaren organiseert Flor de Fango in de zomer buitensalons. Tussen de oude pakhuizen en naast het restaurant van Restaurant Verheyden creëert dit een bijna buitenlandse sfeer. Een plek waar we even uit de tijd kunnen stappen. Een plek om elkaar te ontmoeten. Het feit dat dansers en niet-dansers een plekje bij Restaurant Verheyden met zicht op het podium reserveren tijdens onze salon laat wel zien dat deze sfeer gewaardeerd wordt.\nRegen? Dan gaan we naar binnen. Zelfde tijd\, maar je blijft droog. Maaltijd bestellen\, zie verder. \nEN: all summer long we put the door wide open and do ‘Tango in the street’ in front of the Flor de Fango dance hall. In the narrow street between the old buildings it’s a great atmosphere.\nBad weather? We go inside. Same time\, but you stay dry \nDJ Mi Cielo\nDJ Mi Cielo is een veelzijdige tango DJ\, die in Antwerpen ook een tango-radioprogramma maakt en in de zomer zorgt voor ‘Tango aan de stroom’. https://www.facebook.com/tdjmicielo \nTickets Salon à € 10\,- te koop aan de bar\nMaaltijd:\nJe kan tot 27 juni 18:00 uur voor € 15\,- een maaltijd van Verheyden bestellen door een email te sturen naar events@flordefango.nl onder vermelding van datum\, naam en hoeveelheid. \nAan de bar kunnen nog maximaal 5 maaltijden worden besteld in verband met het gereedmaken van de maaltijden die speciaal voor Flor worden gemaakt. \nMenu: Vegetarische moussaka met zachte Italiaanse kaas\, aubergine en linzen. Zuurdesem toast en Tomaten salade. \nEN: Ticket salon € 10\, – pay at the entrance/bar.\nYou can order a simpel meal à € 15\,- by sending an email to events@flordefango.nl before June 27\, 18:00 o’clock with date\, name and amount. \nWe have a webpage that offers tips for eating\, sleaping and traveling in/to Arnhem. \nSeizoen 2024\nZA 29 JUN – Modern Street Tango met DJ Mi Cielo\nWO 3 JUL – International Street Tango met DJ El Fresco\nWO 31 JUL – Summerdaze Street Tango met DJ Joost Brunsting\nZA 31 AUG – Modern Street Tango met DJ Ezequiel\nZA 14 SEP – Traditional Street Tango met DJ El Gerito
URL:https://flordefango.nl/evenement/za-29-jun-modern-street-tango-met-dj-mi-cielo-2/
LOCATION:Wezenstraat 5a\, Arnhem\, 6811 CR\, Nederland
CATEGORIES:alle niveaus,Salon,Straattango - buitensalon
END:VEVENT
END:VCALENDAR