BEGIN:VCALENDAR
VERSION:2.0
PRODID:-//Flor de Fango - ECPv6.15.20//NONSGML v1.0//EN
CALSCALE:GREGORIAN
METHOD:PUBLISH
X-ORIGINAL-URL:https://flordefango.nl
X-WR-CALDESC:Evenementen voor Flor de Fango
REFRESH-INTERVAL;VALUE=DURATION:PT1H
X-Robots-Tag:noindex
X-PUBLISHED-TTL:PT1H
BEGIN:VTIMEZONE
TZID:Europe/Amsterdam
BEGIN:DAYLIGHT
TZOFFSETFROM:+0100
TZOFFSETTO:+0200
TZNAME:CEST
DTSTART:20240331T010000
END:DAYLIGHT
BEGIN:STANDARD
TZOFFSETFROM:+0200
TZOFFSETTO:+0100
TZNAME:CET
DTSTART:20241027T010000
END:STANDARD
BEGIN:DAYLIGHT
TZOFFSETFROM:+0100
TZOFFSETTO:+0200
TZNAME:CEST
DTSTART:20250330T010000
END:DAYLIGHT
BEGIN:STANDARD
TZOFFSETFROM:+0200
TZOFFSETTO:+0100
TZNAME:CET
DTSTART:20251026T010000
END:STANDARD
BEGIN:DAYLIGHT
TZOFFSETFROM:+0100
TZOFFSETTO:+0200
TZNAME:CEST
DTSTART:20260329T010000
END:DAYLIGHT
BEGIN:STANDARD
TZOFFSETFROM:+0200
TZOFFSETTO:+0100
TZNAME:CET
DTSTART:20261025T010000
END:STANDARD
END:VTIMEZONE
BEGIN:VEVENT
DTSTART;TZID=Europe/Amsterdam:20251115T200000
DTEND;TZID=Europe/Amsterdam:20251116T000000
DTSTAMP:20260421T193908
CREATED:20250922T121328Z
LAST-MODIFIED:20251107T222146Z
UID:10000228-1763236800-1763251200@flordefango.nl
SUMMARY:ZA 15 NOV - Flor de Neo - DJ Saskia
DESCRIPTION:Flor de Neo met DJ Saskia\nSalon met 100% neo- en non-tango. \nFlor de Neo\, 4 uur Neo en 100% plezier. Wij draaien geen cortina’s\, cabaceo’s niet verplicht en je mag lekker dansen zoals jij dat wilt.  \nTickets à € 12\, – te koop aan de bar.\nTickets for sale at the bar.
URL:https://flordefango.nl/evenement/za-15-nov-flor-de-neo-dj-saskia/
LOCATION:Wezenstraat 5a\, Arnhem\, 6811 CR\, Nederland
CATEGORIES:alle niveaus,Neolonga,Salon
ATTACH;FMTTYPE=image/jpeg:https://flordefango.nl/wp-content/uploads/2025/10/Flor-de-Neo-15-111.jpg
END:VEVENT
END:VCALENDAR