BEGIN:VCALENDAR
VERSION:2.0
PRODID:-//Flor de Fango - ECPv6.15.20//NONSGML v1.0//EN
CALSCALE:GREGORIAN
METHOD:PUBLISH
X-ORIGINAL-URL:https://flordefango.nl
X-WR-CALDESC:Evenementen voor Flor de Fango
REFRESH-INTERVAL;VALUE=DURATION:PT1H
X-Robots-Tag:noindex
X-PUBLISHED-TTL:PT1H
BEGIN:VTIMEZONE
TZID:Europe/Amsterdam
BEGIN:DAYLIGHT
TZOFFSETFROM:+0100
TZOFFSETTO:+0200
TZNAME:CEST
DTSTART:20240331T010000
END:DAYLIGHT
BEGIN:STANDARD
TZOFFSETFROM:+0200
TZOFFSETTO:+0100
TZNAME:CET
DTSTART:20241027T010000
END:STANDARD
BEGIN:DAYLIGHT
TZOFFSETFROM:+0100
TZOFFSETTO:+0200
TZNAME:CEST
DTSTART:20250330T010000
END:DAYLIGHT
BEGIN:STANDARD
TZOFFSETFROM:+0200
TZOFFSETTO:+0100
TZNAME:CET
DTSTART:20251026T010000
END:STANDARD
BEGIN:DAYLIGHT
TZOFFSETFROM:+0100
TZOFFSETTO:+0200
TZNAME:CEST
DTSTART:20260329T010000
END:DAYLIGHT
BEGIN:STANDARD
TZOFFSETFROM:+0200
TZOFFSETTO:+0100
TZNAME:CET
DTSTART:20261025T010000
END:STANDARD
END:VTIMEZONE
BEGIN:VEVENT
DTSTART;TZID=Europe/Amsterdam:20250719T200000
DTEND;TZID=Europe/Amsterdam:20250719T230000
DTSTAMP:20260422T004304
CREATED:20250711T101005Z
LAST-MODIFIED:20250711T102410Z
UID:10000186-1752955200-1752966000@flordefango.nl
SUMMARY:ZA 19 JUL - Neo Practicar
DESCRIPTION:I.v.m. de zomer een “Gewoon-een-avondje-lekker-dansen”\nHelaas\, dit keer wegens de vakantie van de DJ’s geen officiële Flor de Neo\, maarrrr….. \nNIET GETREURD! \nWim en Anke\, trouwe bezoekers van Flor de Neo\, zullen je deze avond met open armen ontvangen. Gewoon een zomeravond lekker dansen\, en omdat het een practicar is…ook goofen\, oefenen\, spelen op een heerlijk dansbare Neo muziekplaylist.\nVoor al die mensen die aangaven dat ze zo graag toch wilden dansen… \n  \nTickets à € 6\, – te koop aan de bar.\nTickets for sale at the bar.
URL:https://flordefango.nl/evenement/za-19-jul-neo-practicar/
LOCATION:Wezenstraat 5a\, Arnhem\, 6811 CR\, Nederland
CATEGORIES:alle niveaus,Neolonga,Practicar,Salon
ATTACH;FMTTYPE=image/jpeg:https://flordefango.nl/wp-content/uploads/2025/07/Neo-Practicar.jpg
END:VEVENT
END:VCALENDAR