BEGIN:VCALENDAR
VERSION:2.0
PRODID:-//Flor de Fango - ECPv6.15.20//NONSGML v1.0//EN
CALSCALE:GREGORIAN
METHOD:PUBLISH
X-ORIGINAL-URL:https://flordefango.nl
X-WR-CALDESC:Evenementen voor Flor de Fango
REFRESH-INTERVAL;VALUE=DURATION:PT1H
X-Robots-Tag:noindex
X-PUBLISHED-TTL:PT1H
BEGIN:VTIMEZONE
TZID:Europe/Amsterdam
BEGIN:DAYLIGHT
TZOFFSETFROM:+0100
TZOFFSETTO:+0200
TZNAME:CEST
DTSTART:20240331T010000
END:DAYLIGHT
BEGIN:STANDARD
TZOFFSETFROM:+0200
TZOFFSETTO:+0100
TZNAME:CET
DTSTART:20241027T010000
END:STANDARD
BEGIN:DAYLIGHT
TZOFFSETFROM:+0100
TZOFFSETTO:+0200
TZNAME:CEST
DTSTART:20250330T010000
END:DAYLIGHT
BEGIN:STANDARD
TZOFFSETFROM:+0200
TZOFFSETTO:+0100
TZNAME:CET
DTSTART:20251026T010000
END:STANDARD
BEGIN:DAYLIGHT
TZOFFSETFROM:+0100
TZOFFSETTO:+0200
TZNAME:CEST
DTSTART:20260329T010000
END:DAYLIGHT
BEGIN:STANDARD
TZOFFSETFROM:+0200
TZOFFSETTO:+0100
TZNAME:CET
DTSTART:20261025T010000
END:STANDARD
END:VTIMEZONE
BEGIN:VEVENT
DTSTART;TZID=Europe/Amsterdam:20250118T200000
DTEND;TZID=Europe/Amsterdam:20250119T000000
DTSTAMP:20260422T082037
CREATED:20241224T211234Z
LAST-MODIFIED:20250116T095918Z
UID:10000099-1737230400-1737244800@flordefango.nl
SUMMARY:ZA 18 JAN - Flor de Neo - DJ Rob en DJ Saskia
DESCRIPTION:Flor de Neo met DJ Rob en DJ Saskia\nSalon met 100% neo- en non-tango. \nFlor de Neo\, 4 uur Neo en 100% plezier. Wij draaien geen cortina’s\, cabaceo’s niet verplicht en je mag lekker dansen zoals jij dat wilt.  \nTickets à € 10\, – te koop aan de bar.\nTickets for sale at the bar.
URL:https://flordefango.nl/evenement/za-18-jan-flor-de-neo-dj-rob-of-saskia/
LOCATION:Wezenstraat 5a\, Arnhem\, 6811 CR\, Nederland
CATEGORIES:alle niveaus,Neolonga,Salon
ATTACH;FMTTYPE=image/jpeg:https://flordefango.nl/wp-content/uploads/2024/12/2025-Flor-de-Neo.jpg
END:VEVENT
END:VCALENDAR