BEGIN:VCALENDAR
VERSION:2.0
PRODID:-//Flor de Fango - ECPv6.15.20//NONSGML v1.0//EN
CALSCALE:GREGORIAN
METHOD:PUBLISH
X-ORIGINAL-URL:https://flordefango.nl
X-WR-CALDESC:Evenementen voor Flor de Fango
REFRESH-INTERVAL;VALUE=DURATION:PT1H
X-Robots-Tag:noindex
X-PUBLISHED-TTL:PT1H
BEGIN:VTIMEZONE
TZID:Europe/Amsterdam
BEGIN:DAYLIGHT
TZOFFSETFROM:+0100
TZOFFSETTO:+0200
TZNAME:CEST
DTSTART:20230326T010000
END:DAYLIGHT
BEGIN:STANDARD
TZOFFSETFROM:+0200
TZOFFSETTO:+0100
TZNAME:CET
DTSTART:20231029T010000
END:STANDARD
BEGIN:DAYLIGHT
TZOFFSETFROM:+0100
TZOFFSETTO:+0200
TZNAME:CEST
DTSTART:20240331T010000
END:DAYLIGHT
BEGIN:STANDARD
TZOFFSETFROM:+0200
TZOFFSETTO:+0100
TZNAME:CET
DTSTART:20241027T010000
END:STANDARD
BEGIN:DAYLIGHT
TZOFFSETFROM:+0100
TZOFFSETTO:+0200
TZNAME:CEST
DTSTART:20250330T010000
END:DAYLIGHT
BEGIN:STANDARD
TZOFFSETFROM:+0200
TZOFFSETTO:+0100
TZNAME:CET
DTSTART:20251026T010000
END:STANDARD
END:VTIMEZONE
BEGIN:VEVENT
DTSTART;TZID=Europe/Amsterdam:20240921T200000
DTEND;TZID=Europe/Amsterdam:20240922T000000
DTSTAMP:20260422T145406
CREATED:20240808T121844Z
LAST-MODIFIED:20240830T075135Z
UID:10000040-1726948800-1726963200@flordefango.nl
SUMMARY:ZA 21 SEP - Flor de Neo met Nocturna - dancing in the dark - DJ Saskia
DESCRIPTION:Flor de Neo een nieuw seizoen!\nDeze keer starten we het seizoen met een heuse Nocturna. Dansen in het donker op sfeervolle muziek. Het scherp de zintuigen\, laat jou de muziek en het dansen met jouw partner op een heel andere manier ervaren. \nDe Nocturna start om 22.00 uur\, als het ook buiten donker genoeg is. \nFlor de Neo is een salon met 100% neo- en non-tango. \nFlor de Neo\, 4 uur Neo en 100% plezier. Wij draaien geen cortina’s\, cabaceo’s niet verplicht en je mag lekker dansen zoals jij dat wilt. \nTickets à € 10\, – te koop aan de bar.\nTickets for sale at the bar.\nZoek je informatie over reizen naar Flor\, verblijven in Arnhem of lekker eten voor je komt dansen? Kijk dan op onze tips-pagina.
URL:https://flordefango.nl/evenement/za-21-sep-flor-de-neo/
LOCATION:Wezenstraat 5a\, Arnhem\, 6811 CR\, Nederland
CATEGORIES:alle niveaus,Neolonga,Salon
ATTACH;FMTTYPE=image/jpeg:https://flordefango.nl/wp-content/uploads/2024/08/Flor-de-Neo.jpg
END:VEVENT
END:VCALENDAR