BEGIN:VCALENDAR
VERSION:2.0
PRODID:-//Flor de Fango - ECPv6.15.20//NONSGML v1.0//EN
CALSCALE:GREGORIAN
METHOD:PUBLISH
X-ORIGINAL-URL:https://flordefango.nl
X-WR-CALDESC:Evenementen voor Flor de Fango
REFRESH-INTERVAL;VALUE=DURATION:PT1H
X-Robots-Tag:noindex
X-PUBLISHED-TTL:PT1H
BEGIN:VTIMEZONE
TZID:Europe/Amsterdam
BEGIN:DAYLIGHT
TZOFFSETFROM:+0100
TZOFFSETTO:+0200
TZNAME:CEST
DTSTART:20230326T010000
END:DAYLIGHT
BEGIN:STANDARD
TZOFFSETFROM:+0200
TZOFFSETTO:+0100
TZNAME:CET
DTSTART:20231029T010000
END:STANDARD
BEGIN:DAYLIGHT
TZOFFSETFROM:+0100
TZOFFSETTO:+0200
TZNAME:CEST
DTSTART:20240331T010000
END:DAYLIGHT
BEGIN:STANDARD
TZOFFSETFROM:+0200
TZOFFSETTO:+0100
TZNAME:CET
DTSTART:20241027T010000
END:STANDARD
BEGIN:DAYLIGHT
TZOFFSETFROM:+0100
TZOFFSETTO:+0200
TZNAME:CEST
DTSTART:20250330T010000
END:DAYLIGHT
BEGIN:STANDARD
TZOFFSETFROM:+0200
TZOFFSETTO:+0100
TZNAME:CET
DTSTART:20251026T010000
END:STANDARD
END:VTIMEZONE
BEGIN:VEVENT
DTSTART;TZID=Europe/Amsterdam:20241124T180000
DTEND;TZID=Europe/Amsterdam:20241124T220000
DTSTAMP:20260420T170345
CREATED:20240926T090647Z
LAST-MODIFIED:20241121T152606Z
UID:10000068-1732471200-1732485600@flordefango.nl
SUMMARY:ZO 24 NOV - Pop Up Salon - DJ Acquelina
DESCRIPTION:Pop Up Salon – DJ Acquelina\nEr is soep en kleine hapjes\nHommage aan de zojuist gestorven Miguel Villasboas\n==\nVillasboas werd geboren op 30 december 1936\, in Montevideo en stierf in dezelfde stad op 27 oktober 2024.\nVanaf zijn jeugd voelde hij zich aangetrokken tot het populaire genre van de regio Rio de la Plata dat zijn muzikale leven zou kenmerken: de tango. Zijn vader was zijn eerste pianoleraar.\nIn 1952 vormde hij zijn eerste typische formatie met de naam Quinteto Miguelito. Hij is meer dan 50 jaar (1952 – 2009) dirigent en componist geweest.\nZijn muziek wordt gekenmerkt door het het oorspronkelijke ritme van de tango\, gespeeld in 2/4\, terwijl hij tegelijkertijd repertoire van de Guardia Vieja creëerde\, puur instrumentaal en zeer dansbaar. \nDaarnaast studeerde hij af als professor geschiedenis en muziekeducatie en gaf les tot 1993\, toen hij met pensioen ging als leraar. Sindsdien heeft hij zeer succesvolle tournees gemaakt in verschillende steden over de hele wereld tot in deze eeuw.\nProfessor Villasboas deelde het podium met grote sterren: Osvaldo Fresedo\, Miguel Caló\, Juan D’Arienzo\, Alberto Castillo\, Francisco Canaro en vele anderen. \nHij heeft veel opnames gemaakt: 60 LP’s\, 18 cassettes en 10 compact discs met verschillende platenmaatschappijen\, zoals London\, Odeon of Argentina en\, meest recent\, met Montevideo Music Group.\nBron: www.todotango.com/english/artists/biography/1163/Miguel-Villasboas/ \nDJ Acquelina\nJacqueline zegt: “ik ben de dansende DJ met een voorkeur voor klassiek\, met extra aandacht voor walsjes en een knipoogje naar Neo. Ik heb ge-DJanet in Aken\, Utrecht en Nijmegen en nu voor jullie bij Flor de Fango in Arnhem” \nTickets salon à € 10\, – kun je kopen aan de bar/ for sale at the bar.\nDe danszaal van Flor de Fango heeft een heerlijke houten vloer\, ligt in het ♥️ van Arnhem: 10 min. lopen van Arnhem Centraal station en net zover van parkeergarage Musis. \n 
URL:https://flordefango.nl/evenement/zo-24-nov-pop-up-salon-dj-acquelina/
LOCATION:Wezenstraat 5a\, Arnhem\, 6811 CR\, Nederland
CATEGORIES:alle niveaus,Tango cafe
ATTACH;FMTTYPE=image/jpeg:https://flordefango.nl/wp-content/uploads/2024/09/20241124-pop-up.jpg
END:VEVENT
END:VCALENDAR