BEGIN:VCALENDAR
VERSION:2.0
PRODID:-//Flor de Fango - ECPv6.15.20//NONSGML v1.0//EN
CALSCALE:GREGORIAN
METHOD:PUBLISH
X-WR-CALNAME:Flor de Fango
X-ORIGINAL-URL:https://flordefango.nl
X-WR-CALDESC:Evenementen voor Flor de Fango
REFRESH-INTERVAL;VALUE=DURATION:PT1H
X-Robots-Tag:noindex
X-PUBLISHED-TTL:PT1H
BEGIN:VTIMEZONE
TZID:Europe/Amsterdam
BEGIN:DAYLIGHT
TZOFFSETFROM:+0100
TZOFFSETTO:+0200
TZNAME:CEST
DTSTART:20230326T010000
END:DAYLIGHT
BEGIN:STANDARD
TZOFFSETFROM:+0200
TZOFFSETTO:+0100
TZNAME:CET
DTSTART:20231029T010000
END:STANDARD
BEGIN:DAYLIGHT
TZOFFSETFROM:+0100
TZOFFSETTO:+0200
TZNAME:CEST
DTSTART:20240331T010000
END:DAYLIGHT
BEGIN:STANDARD
TZOFFSETFROM:+0200
TZOFFSETTO:+0100
TZNAME:CET
DTSTART:20241027T010000
END:STANDARD
BEGIN:DAYLIGHT
TZOFFSETFROM:+0100
TZOFFSETTO:+0200
TZNAME:CEST
DTSTART:20250330T010000
END:DAYLIGHT
BEGIN:STANDARD
TZOFFSETFROM:+0200
TZOFFSETTO:+0100
TZNAME:CET
DTSTART:20251026T010000
END:STANDARD
END:VTIMEZONE
BEGIN:VEVENT
DTSTART;TZID=Europe/Amsterdam:20241015T190000
DTEND;TZID=Europe/Amsterdam:20241015T230000
DTSTAMP:20260421T140714
CREATED:20240808T121537Z
LAST-MODIFIED:20241012T132258Z
UID:10000038-1729018800-1729033200@flordefango.nl
SUMMARY:DI 15 OKT - Flor de Practicar: Begeleid Practicum door Jacqueline
DESCRIPTION:Flor de Practicar: Begeleid Practicum door Jacqueline\nWekelijks dansen en elkaar ontmoeten in een ontspannen sfeer. Een gelegenheid om te oefenen\, met elkaar of anderen. Let op het Workshop programma.\n \nWeekly on tuesday evening you can come and dance tango and meet people at our Flor de Practicar. Dance and meet each other in a relaxed atmosphere. \nSometimes there are workshops before:\n► 19.00 workshop (not every week! check facebook/website for program)\n► 20.00-23.00 Flor de Practicar \nMuziek: standaard een Playlist\, soms een DJ. Mix is minimaal 80/20.\nDe danszaal van Flor de Fango heeft een heerlijke houten vloer\, ligt in het ♥️ van Arnhem: 10 min. lopen van Arnhem Centraal station en net zover van parkeergarage Musis. \nTickets workshop à €5\,- kun je kopen aan de bar/ for sale at the bar.\nTickets salon à € 6\, – kun je kopen aan de bar/ for sale at the bar.\nWorkshopprogramma\nDI 15 OKT – Flor de Practicar: Begeleid Practicum door Jacqueline\nDI 22 OKT – Flor de Practicar: WS Natalia: Flow. Krachtige zachtheid in je dans\nDI 29 OKT – Flor de Practicar: WS Kyra: Wals intentie\nDI 5 NOV – Flor de Practicar: Jacqueline: Practicum Leading Lady’s voor leidende dames\nDI 12 NOV – Flor de Practicar: Begeleid Practicum door Jacqueline\nDI 10 DEC – Flor de Practicar: Begeleid Practicum door Jacqueline\nDI 17 DEC – Flor de Practicar: WS Kyra: Juicy Ocho’s \nTravel\, eat\, sleep in Arnhem?\nTips voor reizen\, eten\, slapen in Arnhem? Zie onze pagina Travel\, eat and sleep in Arnhem \n 
URL:https://flordefango.nl/evenement/di-15-okt-flor-de-practicar-begeleid-practicum-door-jacqueline/
LOCATION:Wezenstraat 5a\, Arnhem\, 6811 CR\, Nederland
CATEGORIES:alle niveaus,Tango cafe,Workshop
ATTACH;FMTTYPE=image/jpeg:https://flordefango.nl/wp-content/uploads/2023/12/2024-Poster-A3-banner-Flor-de-Practicar.jpg
END:VEVENT
END:VCALENDAR