BEGIN:VCALENDAR
VERSION:2.0
PRODID:-//Flor de Fango - ECPv6.15.20//NONSGML v1.0//EN
CALSCALE:GREGORIAN
METHOD:PUBLISH
X-WR-CALNAME:Flor de Fango
X-ORIGINAL-URL:https://flordefango.nl
X-WR-CALDESC:Evenementen voor Flor de Fango
REFRESH-INTERVAL;VALUE=DURATION:PT1H
X-Robots-Tag:noindex
X-PUBLISHED-TTL:PT1H
BEGIN:VTIMEZONE
TZID:Europe/Amsterdam
BEGIN:DAYLIGHT
TZOFFSETFROM:+0100
TZOFFSETTO:+0200
TZNAME:CEST
DTSTART:20230326T010000
END:DAYLIGHT
BEGIN:STANDARD
TZOFFSETFROM:+0200
TZOFFSETTO:+0100
TZNAME:CET
DTSTART:20231029T010000
END:STANDARD
BEGIN:DAYLIGHT
TZOFFSETFROM:+0100
TZOFFSETTO:+0200
TZNAME:CEST
DTSTART:20240331T010000
END:DAYLIGHT
BEGIN:STANDARD
TZOFFSETFROM:+0200
TZOFFSETTO:+0100
TZNAME:CET
DTSTART:20241027T010000
END:STANDARD
BEGIN:DAYLIGHT
TZOFFSETFROM:+0100
TZOFFSETTO:+0200
TZNAME:CEST
DTSTART:20250330T010000
END:DAYLIGHT
BEGIN:STANDARD
TZOFFSETFROM:+0200
TZOFFSETTO:+0100
TZNAME:CET
DTSTART:20251026T010000
END:STANDARD
END:VTIMEZONE
BEGIN:VEVENT
DTSTART;TZID=Europe/Amsterdam:20240625T190000
DTEND;TZID=Europe/Amsterdam:20240625T230000
DTSTAMP:20260421T192806
CREATED:20240403T162557Z
LAST-MODIFIED:20240403T162557Z
UID:10000006-1719342000-1719356400@flordefango.nl
SUMMARY:DI 25 JUN - Flor de Practicar\, WS van Jacqueline: TangoPilates en Versieringen
DESCRIPTION:Flor de Practicar met dit keer vooraf een workshop van Jacqueline: TangoPilates en Versieringen\nWekelijks dansen en elkaar ontmoeten in een ontspannen sfeer. Een gelegenheid om te oefenen\, met elkaar of anderen.\n \nDance and meet each other in a relaxed atmosphere. \nWeekly on tuesday evening you can come and dance tango and meet people at our Flor de Practicar. Sometimes there are workshops before:\n► 19.00 workshop (not every week! check facebook/website for program)\n► 20.00-23.00 Flor de Practicar \nMuziek: standaard een Playlist\, soms een DJ. Mix is minimaal 80/20.\nDe danszaal van Flor de Fango heeft een heerlijke houten vloer\, ligt in het ♥️ van Arnhem: 10 min. lopen van Arnhem Centraal station en net zover van parkeergarage Musis. \nWorkshopprogramma\n\nDI 25 JUN – Flor de Practicar\, WS van Jacqueline: TangoPilates en Versieringen\nDI 2 JUL – Flor de Practicar: Kyra: Walsmusicaliteit & techniek\nDI 9 JUL – Flor de Practicar: Pieter: Navigatie en Etiquette\nDI 6 AUG – Flor de Practicar: Kyra: Vreugde in Draaien\nDI 20 AUG – Flor de Practicar: Begeleid Practicum door Jacqueline (€5)\nDI 3 SEP – Flor de Practicar: Begeleid Practicum door Jacqueline (€5)\nDI 17 SEP – Flor de Practicar: Begeleid Practicum door Jacqueline (€5)\n\nTickets workshop à €10\,- kun je kopen aan de bar/ for sale at the bar.\nTickets salon à € 6\, – kun je kopen aan de bar.\nTickets salon à € 6\, – for sale at the bar.\nTravel\, eat\, sleep in Arnhem?\nTips voor reizen\, eten\, slapen in Arnhem? Zie onze pagina Travel\, eat and sleep in Arnhem \n 
URL:https://flordefango.nl/evenement/di-25-jun-flor-de-practicar-ws-van-jacqueline-tangopilates-en-versieringen-2/
LOCATION:Wezenstraat 5a\, Arnhem\, 6811 CR\, Nederland
CATEGORIES:alle niveaus,Tango cafe,Workshop
END:VEVENT
END:VCALENDAR