BEGIN:VCALENDAR
VERSION:2.0
PRODID:-//Flor de Fango - ECPv6.15.20//NONSGML v1.0//EN
CALSCALE:GREGORIAN
METHOD:PUBLISH
X-ORIGINAL-URL:https://flordefango.nl
X-WR-CALDESC:Evenementen voor Flor de Fango
REFRESH-INTERVAL;VALUE=DURATION:PT1H
X-Robots-Tag:noindex
X-PUBLISHED-TTL:PT1H
BEGIN:VTIMEZONE
TZID:Europe/Amsterdam
BEGIN:DAYLIGHT
TZOFFSETFROM:+0100
TZOFFSETTO:+0200
TZNAME:CEST
DTSTART:20230326T010000
END:DAYLIGHT
BEGIN:STANDARD
TZOFFSETFROM:+0200
TZOFFSETTO:+0100
TZNAME:CET
DTSTART:20231029T010000
END:STANDARD
BEGIN:DAYLIGHT
TZOFFSETFROM:+0100
TZOFFSETTO:+0200
TZNAME:CEST
DTSTART:20240331T010000
END:DAYLIGHT
BEGIN:STANDARD
TZOFFSETFROM:+0200
TZOFFSETTO:+0100
TZNAME:CET
DTSTART:20241027T010000
END:STANDARD
BEGIN:DAYLIGHT
TZOFFSETFROM:+0100
TZOFFSETTO:+0200
TZNAME:CEST
DTSTART:20250330T010000
END:DAYLIGHT
BEGIN:STANDARD
TZOFFSETFROM:+0200
TZOFFSETTO:+0100
TZNAME:CET
DTSTART:20251026T010000
END:STANDARD
END:VTIMEZONE
BEGIN:VEVENT
DTSTART;TZID=Europe/Amsterdam:20240831T170000
DTEND;TZID=Europe/Amsterdam:20240831T230000
DTSTAMP:20260420T032659
CREATED:20240425T103921Z
LAST-MODIFIED:20240909T101950Z
UID:10000049-1725123600-1725145200@flordefango.nl
SUMMARY:ZA 31 AUG - Modern Street Tango met LIVE Don Sampo y La Vartuli - DJ Peter van Gerwen
DESCRIPTION:Modern Street Tango met LIVE Don Sampo y La Vartuli – DJ Peter van Gerwen\nAl jaren organiseert Flor de Fango in de zomer buitensalons. Tussen de oude pakhuizen en naast het restaurant van Restaurant Verheyden creëert dit een bijna buitenlandse sfeer. Een plek waar we even uit de tijd kunnen stappen. Een plek om elkaar te ontmoeten. Het feit dat dansers en niet-dansers een plekje bij Restaurant Verheyden met zicht op het podium reserveren tijdens onze salon laat wel zien dat deze sfeer gewaardeerd wordt.\nRegen? Dan gaan we naar binnen. Zelfde tijd\, maar je blijft droog. \nEN: all summer long we put the door wide open and do ‘Tango in the street’ in front of the Flor de Fango dance hall. In the narrow street between the old buildings it’s a great atmosphere.\nBad weather? We go inside. Same time\, but you stay dry \nDuo Don Sampo y La Vartuli\nDon Sampo y La Vartuli – Argentijnse Muziek en Dans – Tango en Folklore bestaat uit twee personen: – Pipi Vartuli is danseres en zangeres\, afgestudeerd in Folklore en Tango. – Santiago Sampo is muzikant en zanger\, Argentijnse gitaarleraar en producent van evenementen. Hun passie is om de rijke Argentijnse cultuur te verspreiden door middel van tango en folklore\, in muziek en dans. Al jaren delen ze hun show die een fusie is van instrumentale en gezongen klassiekers op verschillende podia\, van milongas en peñas tot theaters. Daarbij bieden ze een repertoire dat varieert van tango’s en walsen tot levendige folkloristische ritmes van chacarera en chamamé. \nVideo’s: \nhttps://www.youtube.com/watch?v=s8NCYHdqPgw en https://www.youtube.com/watch?v=n9cDaH0uLk0 \nDJ Peter van Gerwen\nhttps://www.facebook.com/pvangerwen \nYoutube: https://www.youtube.com/channel/UCTx_ackfGaaJVq7U63WDvVw \nEen heerlijke maaltijd wordt bereid door Café Verheyden voor €15. Graag vooraf mailen naar events@flordefango.nl Op de dag zelf zijn er slechts enkele maaltijden te bestellen bij de bar van Flor\, vóór 18.00 uur. \nSeizoen 2024\nZA 14 SEP – Traditional Street Tango met DJ El Gerito\nTicket € 10\, – pay at the entrance/bar.\nJe kan tot 18:30 uur een maaltijd bestellen aan de bar. \nEN: Tickets at the bar. You can order a simpel meal at the bar until 18:30 o’clock. \nWe have a webpage that offers tips for eating\, sleaping and traveling in/to Arnhem.
URL:https://flordefango.nl/evenement/za-31-aug-modern-street-tango-met-live-don-sampo-y-la-vartuli-dj-peter-van-gerwen/
LOCATION:Wezenstraat 5a\, Arnhem\, 6811 CR\, Nederland
CATEGORIES:alle niveaus,Concert Dansant,Modern Tango Salon,Straattango - buitensalon
END:VEVENT
END:VCALENDAR