BEGIN:VCALENDAR
VERSION:2.0
PRODID:-//Flor de Fango - ECPv6.15.20//NONSGML v1.0//EN
CALSCALE:GREGORIAN
METHOD:PUBLISH
X-ORIGINAL-URL:https://flordefango.nl
X-WR-CALDESC:Evenementen voor Flor de Fango
REFRESH-INTERVAL;VALUE=DURATION:PT1H
X-Robots-Tag:noindex
X-PUBLISHED-TTL:PT1H
BEGIN:VTIMEZONE
TZID:Europe/Amsterdam
BEGIN:DAYLIGHT
TZOFFSETFROM:+0100
TZOFFSETTO:+0200
TZNAME:CEST
DTSTART:20230326T010000
END:DAYLIGHT
BEGIN:STANDARD
TZOFFSETFROM:+0200
TZOFFSETTO:+0100
TZNAME:CET
DTSTART:20231029T010000
END:STANDARD
BEGIN:DAYLIGHT
TZOFFSETFROM:+0100
TZOFFSETTO:+0200
TZNAME:CEST
DTSTART:20240331T010000
END:DAYLIGHT
BEGIN:STANDARD
TZOFFSETFROM:+0200
TZOFFSETTO:+0100
TZNAME:CET
DTSTART:20241027T010000
END:STANDARD
BEGIN:DAYLIGHT
TZOFFSETFROM:+0100
TZOFFSETTO:+0200
TZNAME:CEST
DTSTART:20250330T010000
END:DAYLIGHT
BEGIN:STANDARD
TZOFFSETFROM:+0200
TZOFFSETTO:+0100
TZNAME:CET
DTSTART:20251026T010000
END:STANDARD
END:VTIMEZONE
BEGIN:VEVENT
DTSTART;TZID=Europe/Amsterdam:20240922T180000
DTEND;TZID=Europe/Amsterdam:20240922T220000
DTSTAMP:20260421T070739
CREATED:20240617T121544Z
LAST-MODIFIED:20240916T130224Z
UID:10000028-1727028000-1727042400@flordefango.nl
SUMMARY:ZO 22 SEP - Salon Dominguera - DJ/VJ Peter
DESCRIPTION:Salon Dominguera \nTraditioneel/Neo/Non: 80-20% – Zondagavond-dansen op muziek van bekende DJ’s! \nDJ/VJ Peter (van Gerwen)\nhttps://www.facebook.com/pvangerwen \nYoutube: https://www.youtube.com/channel/UCTx_ackfGaaJVq7U63WDvVw \nTicket € 10\, -.\nTickets te koop aan de bar. Tickets for sale  at the bar.\nTravel\, eat\, sleep in Arnhem?\nTips voor reizen\, eten\, slapen in Arnhem? Zie onze pagina Travel\, eat and sleep in Arnhem
URL:https://flordefango.nl/evenement/zo-22-sep-salon-dominguera-dj-vj-peter/
LOCATION:Wezenstraat 5a\, Arnhem\, 6811 CR\, Nederland
CATEGORIES:alle niveaus,Milonga Dominguera,Salon
ATTACH;FMTTYPE=image/jpeg:https://flordefango.nl/wp-content/uploads/2020/07/DJ-Peter.jpg
END:VEVENT
END:VCALENDAR