BEGIN:VCALENDAR
VERSION:2.0
PRODID:-//Flor de Fango - ECPv6.15.20//NONSGML v1.0//EN
CALSCALE:GREGORIAN
METHOD:PUBLISH
X-WR-CALNAME:Flor de Fango
X-ORIGINAL-URL:https://flordefango.nl
X-WR-CALDESC:Evenementen voor Flor de Fango
REFRESH-INTERVAL;VALUE=DURATION:PT1H
X-Robots-Tag:noindex
X-PUBLISHED-TTL:PT1H
BEGIN:VTIMEZONE
TZID:Europe/Amsterdam
BEGIN:DAYLIGHT
TZOFFSETFROM:+0100
TZOFFSETTO:+0200
TZNAME:CEST
DTSTART:20250330T010000
END:DAYLIGHT
BEGIN:STANDARD
TZOFFSETFROM:+0200
TZOFFSETTO:+0100
TZNAME:CET
DTSTART:20251026T010000
END:STANDARD
BEGIN:DAYLIGHT
TZOFFSETFROM:+0100
TZOFFSETTO:+0200
TZNAME:CEST
DTSTART:20260329T010000
END:DAYLIGHT
BEGIN:STANDARD
TZOFFSETFROM:+0200
TZOFFSETTO:+0100
TZNAME:CET
DTSTART:20261025T010000
END:STANDARD
BEGIN:DAYLIGHT
TZOFFSETFROM:+0100
TZOFFSETTO:+0200
TZNAME:CEST
DTSTART:20270328T010000
END:DAYLIGHT
BEGIN:STANDARD
TZOFFSETFROM:+0200
TZOFFSETTO:+0100
TZNAME:CET
DTSTART:20271031T010000
END:STANDARD
END:VTIMEZONE
BEGIN:VEVENT
DTSTART;TZID=Europe/Amsterdam:20260802T160000
DTEND;TZID=Europe/Amsterdam:20260802T220000
DTSTAMP:20260420T212036
CREATED:20260420T093738Z
LAST-MODIFIED:20260420T093738Z
UID:10000315-1785686400-1785708000@flordefango.nl
SUMMARY:ZO 2 AUG - Flor del Alma - DJ KaraKedi
DESCRIPTION:Flor del Alma – DJ KaraKedi\n100% Traditionele muziek\, speels\, dansbaar\, tandas & cortinas. We creëren een Buenos Aires-sfeer met chacarera\, gratis soep en hapjes. \nDJ KaraKedi\nTickets salon à € 15\,00 kun je kopen aan de bar/ for sale at the bar. \nUpcoming dates:ZO 2 AUG – Flor del Alma – DJ KaraKediZO 4 OKT – Flor del Alma – DJ Zinta ZintaZO 6 DEC – Flor del Alma – DJ Christoph Ronecker
URL:https://flordefango.nl/evenement/zo-2-aug-flor-del-alma-dj-karakedi/
LOCATION:Wezenstraat 5a\, Arnhem\, 6811 CR\, Nederland
CATEGORIES:alle niveaus,Tango cafe
ATTACH;FMTTYPE=image/jpeg:https://flordefango.nl/wp-content/uploads/2026/04/20260802-Flor-del-Alma-DJ-Karakedi-La-Gata-Negra.jpg
END:VEVENT
END:VCALENDAR