BEGIN:VCALENDAR
VERSION:2.0
PRODID:-//Flor de Fango - ECPv6.15.20//NONSGML v1.0//EN
CALSCALE:GREGORIAN
METHOD:PUBLISH
X-WR-CALNAME:Flor de Fango
X-ORIGINAL-URL:https://flordefango.nl
X-WR-CALDESC:Evenementen voor Flor de Fango
REFRESH-INTERVAL;VALUE=DURATION:PT1H
X-Robots-Tag:noindex
X-PUBLISHED-TTL:PT1H
BEGIN:VTIMEZONE
TZID:Europe/Amsterdam
BEGIN:DAYLIGHT
TZOFFSETFROM:+0100
TZOFFSETTO:+0200
TZNAME:CEST
DTSTART:20240331T010000
END:DAYLIGHT
BEGIN:STANDARD
TZOFFSETFROM:+0200
TZOFFSETTO:+0100
TZNAME:CET
DTSTART:20241027T010000
END:STANDARD
BEGIN:DAYLIGHT
TZOFFSETFROM:+0100
TZOFFSETTO:+0200
TZNAME:CEST
DTSTART:20250330T010000
END:DAYLIGHT
BEGIN:STANDARD
TZOFFSETFROM:+0200
TZOFFSETTO:+0100
TZNAME:CET
DTSTART:20251026T010000
END:STANDARD
BEGIN:DAYLIGHT
TZOFFSETFROM:+0100
TZOFFSETTO:+0200
TZNAME:CEST
DTSTART:20260329T010000
END:DAYLIGHT
BEGIN:STANDARD
TZOFFSETFROM:+0200
TZOFFSETTO:+0100
TZNAME:CET
DTSTART:20261025T010000
END:STANDARD
END:VTIMEZONE
BEGIN:VEVENT
DTSTART;TZID=Europe/Amsterdam:20250124T190000
DTEND;TZID=Europe/Amsterdam:20250125T000000
DTSTAMP:20260420T145049
CREATED:20250116T093854Z
LAST-MODIFIED:20250120T173147Z
UID:10000120-1737745200-1737763200@flordefango.nl
SUMMARY:VR 24 JAN - Uitnacht Arnhem in Flor de Fango en Oostpool - DJ Ezequiel
DESCRIPTION:Uitnacht Arnhem in Flor de Fango en Oostpool – DJ Ezequiel\nMeer info over de Uitnacht \nIn Flor de Fango:\n19.00 – 20.00 uur workshop Ezequiel en Marleen\n20.00 – 21.00 uur salon\n21.00 – 22.00 uur workshop Ezequiel en Marleen\n22.30 Show Ezequiel en Marleen\n22.45 – 24.00 Salon met Dj Eze \nDJ Eze\nDJ Eze (Ezequiel Sanucci) uit Buenos Aires is een veelzijdige danser\, dansdocent en DJ. In 2013 begon hij onder de naam DJ Eze met DJ-en van traditionele tangomuziek waarna hij neotango toevoegde aan zijn repertoire. DJ Eze houdt van afwisseling\, verrassen van de dansers en het creëren van verschillende sferen tijdens zijn sets.  \nHij voelt goed aan wat er op de dansvloer gebeurt en is helemaal happy als de dansers het naar hun zin hebben en dat kun je zien. \nNB. In het Theater Oostpool doen Roberto en Tessa mee in de “Surprise Show”.\nDe Surprise Show in Oostpool is om 20.00 uur.  \nAdres Theater Oostpool: Nieuwstraat 58\, 6811 HX Arnhem
URL:https://flordefango.nl/evenement/vr-24-jan-uitnacht-arnhem-in-flor-de-fango-en-oostpool-dj-ezequiel/
LOCATION:Wezenstraat 5a\, Arnhem\, 6811 CR\, Nederland
CATEGORIES:alle niveaus,beginners,demonstratie,Té Dansante,Workshop
ATTACH;FMTTYPE=image/jpeg:https://flordefango.nl/wp-content/uploads/2025/01/20250124-uitnacht-1.jpg
END:VEVENT
END:VCALENDAR