BEGIN:VCALENDAR
VERSION:2.0
PRODID:-//Flor de Fango - ECPv6.15.20//NONSGML v1.0//EN
CALSCALE:GREGORIAN
METHOD:PUBLISH
X-ORIGINAL-URL:https://flordefango.nl
X-WR-CALDESC:Evenementen voor Flor de Fango
REFRESH-INTERVAL;VALUE=DURATION:PT1H
X-Robots-Tag:noindex
X-PUBLISHED-TTL:PT1H
BEGIN:VTIMEZONE
TZID:Europe/Amsterdam
BEGIN:DAYLIGHT
TZOFFSETFROM:+0100
TZOFFSETTO:+0200
TZNAME:CEST
DTSTART:20230326T010000
END:DAYLIGHT
BEGIN:STANDARD
TZOFFSETFROM:+0200
TZOFFSETTO:+0100
TZNAME:CET
DTSTART:20231029T010000
END:STANDARD
BEGIN:DAYLIGHT
TZOFFSETFROM:+0100
TZOFFSETTO:+0200
TZNAME:CEST
DTSTART:20240331T010000
END:DAYLIGHT
BEGIN:STANDARD
TZOFFSETFROM:+0200
TZOFFSETTO:+0100
TZNAME:CET
DTSTART:20241027T010000
END:STANDARD
BEGIN:DAYLIGHT
TZOFFSETFROM:+0100
TZOFFSETTO:+0200
TZNAME:CEST
DTSTART:20250330T010000
END:DAYLIGHT
BEGIN:STANDARD
TZOFFSETFROM:+0200
TZOFFSETTO:+0100
TZNAME:CET
DTSTART:20251026T010000
END:STANDARD
END:VTIMEZONE
BEGIN:VEVENT
DTSTART;TZID=Europe/Amsterdam:20240816T200000
DTEND;TZID=Europe/Amsterdam:20240816T233000
DTSTAMP:20260420T205533
CREATED:20240617T125511Z
LAST-MODIFIED:20240617T125511Z
UID:10000029-1723838400-1723851000@flordefango.nl
SUMMARY:VR 16 AUG - Sonsbeek Theater Avenue: salon - DJ Eze
DESCRIPTION:Theater Avenue Sonsbeek Argentijnse tangosalon met DJ Eze\nLekker buiten dansen\, Sonsbeek park\, naast de Witte villa\, Tellegenlaan 3\, Arnhem \nProgramma Theater Avenue: zie site Theater Avenue \nVrijdag 16 tot zondag 18 augustus kun je op de Sonsbeek Theateravenue proeven aan de Argentijnse tango. Deze avond is er een (gratis) salon\, ook voor ervaren dansers\, met DJ Ezequiel Sanucci. Met traditionele tangomuziek. \n\n\n\n\n\n\n\n\n\n\n\nDJ Eze\n\n\n\n\n\n\n\n\n\n\n\nEzequiel Sanucci werd geboren in Buenos Aires. Zijn hele familie was tangofan\, al sinds zijn jeugd luistert hij samen met zijn ouders en grootouders naar tangomuziek. In 2013 begon hij onder de naam DJ Eze met DJ-en van traditionele tangomuziek waarna hij neotango toevoegde aan zijn repertoire. Sindsdien heeft hij gedraaid op milonga’s\, tangofestivals en evenementen in Nederland\, Europa en in Buenos Aires\, zowel traditioneel als Neo. \nDJ Eze houdt van afwisseling\, verrassen van de dansers en het creëren van verschillende sferen tijdens zijn sets. Is er een traditionele salon\, dan gaat zijn voorkeur uit naar de Epoca de Oro-tango’s. Hij kan ook een enkele pre-gouden eeuw tango spelen en misschien een enkele tanda van nieuwe tango-orquestra’s\, als klein accent. Zijn cortina’s zijn vrolijk om een luchtige sfeer te geven aan de traditionele milonga.  \nHij voelt goed aan wat er op de dansvloer gebeurt en is helemaal happy als de dansers het naar hun zin hebben en dat kun je zien. Entree is gratis \nProgramma Flor de Fango vrijdag 16 tot zondag 18 augustus\nVrijdag 16 augustus 20.00 – 23.30 uur Salon met DJ Ezequiel \nZaterdag 17 augustus 19.00 – 20.00 uur Demo en workshop door Toine en Monique \n20.00 – 23.30 uur Salon met DJ Toine 21  \nZondag 18 augustus 15.00 – 16.00 uur Demo en workshop door Toine en Monique \n16.00 – 18.00 uur Salon met DJ Acquelina \n\n\n\n\n\n\n\n\n\n\n\n\n\n\n\n\n\n\n\n\n\nHet evenement wordt weer samen met Yasalsa georganiseerd. \nAanvullende informatie: zie site Theater Avenue \nFB: https://facebook.com/events/s/dansen-op-sonsbeek-theater-ave/456928330250552/ \nLET OP: \n\nOp het park is een overvloed aan eten en drinken te verkrijgen\nTips voor reizen\, eten\, slapen in Arnhem? Zie onze pagina Travel\, eat and sleep in Arnhem
URL:https://flordefango.nl/evenement/vr-16-aug-sonsbeek-theater-avenue-salon-dj-eze-2/
LOCATION:Wezenstraat 5a\, Arnhem\, 6811 CR\, Nederland
CATEGORIES:alle niveaus,Salon,Sonsbeek Theater Avenue,Straattango - buitensalon
END:VEVENT
END:VCALENDAR