BEGIN:VCALENDAR
VERSION:2.0
PRODID:-//Flor de Fango - ECPv6.15.20//NONSGML v1.0//EN
CALSCALE:GREGORIAN
METHOD:PUBLISH
X-ORIGINAL-URL:https://flordefango.nl
X-WR-CALDESC:Evenementen voor Flor de Fango
REFRESH-INTERVAL;VALUE=DURATION:PT1H
X-Robots-Tag:noindex
X-PUBLISHED-TTL:PT1H
BEGIN:VTIMEZONE
TZID:Europe/Amsterdam
BEGIN:DAYLIGHT
TZOFFSETFROM:+0100
TZOFFSETTO:+0200
TZNAME:CEST
DTSTART:20240331T010000
END:DAYLIGHT
BEGIN:STANDARD
TZOFFSETFROM:+0200
TZOFFSETTO:+0100
TZNAME:CET
DTSTART:20241027T010000
END:STANDARD
BEGIN:DAYLIGHT
TZOFFSETFROM:+0100
TZOFFSETTO:+0200
TZNAME:CEST
DTSTART:20250330T010000
END:DAYLIGHT
BEGIN:STANDARD
TZOFFSETFROM:+0200
TZOFFSETTO:+0100
TZNAME:CET
DTSTART:20251026T010000
END:STANDARD
BEGIN:DAYLIGHT
TZOFFSETFROM:+0100
TZOFFSETTO:+0200
TZNAME:CEST
DTSTART:20260329T010000
END:DAYLIGHT
BEGIN:STANDARD
TZOFFSETFROM:+0200
TZOFFSETTO:+0100
TZNAME:CET
DTSTART:20261025T010000
END:STANDARD
END:VTIMEZONE
BEGIN:VEVENT
DTSTART;TZID=Europe/Amsterdam:20250614T200000
DTEND;TZID=Europe/Amsterdam:20250615T000000
DTSTAMP:20260421T015626
CREATED:20250414T115921Z
LAST-MODIFIED:20250526T083550Z
UID:10000172-1749931200-1749945600@flordefango.nl
SUMMARY:ZA 14 JUN - MilongaTradicional - DJ "El Fino" Matéo Ataç
DESCRIPTION:Milonga Tradicional met DJ “El Fino” (Matéo Ataç)\n2e zaterdag van 20.00 uur tot 0.00 uur. Traditioneel\, 100%. Een kleinschalige milonga mét DJ. Dj’s draaien traditionele Argentijnse tango-muziek in tanda’s (blokjes van ongeveer 4 nummers met dezelfde soort tango-muziek). Er wordt gebruik gemaakt van cortina’s.  \nDJ “El Fino” Matéo Ataç\n“Mijn hoofddoel is om de dansers te entertainen. Ik wil dat iedereen elke tanda zin heeft om verder te dansen. Ik serveer de dansers een mix van ritmisch en lyrisch\, soms simpel\, soms complex\, 100% traditioneel uit de Epoca d’Oro met soms een uitstap naar een traditioneel orkest uit een recentere periode. Ik hoop op veel gemotiveerde dansers en een sociale sfeer. Durf elkaar te vragen.  \nTango is een ontdekkingstocht voor ons allemaal!” \nhttps://www.facebook.com/MateoElFino/ \nTicket à € 10\, – aan de bar. Tickets for sale at the bar.
URL:https://flordefango.nl/evenement/za-14-jun-milongatradicional-dj-el-fino-mateo-atac/
LOCATION:Wezenstraat 5a\, Arnhem\, 6811 CR\, Nederland
CATEGORIES:alle niveaus,Milonga Tradicional,Salon
ATTACH;FMTTYPE=image/jpeg:https://flordefango.nl/wp-content/uploads/2024/12/2025-Tradicional-2.jpg
END:VEVENT
END:VCALENDAR