BEGIN:VCALENDAR
VERSION:2.0
PRODID:-//Flor de Fango - ECPv6.15.20//NONSGML v1.0//EN
CALSCALE:GREGORIAN
METHOD:PUBLISH
X-ORIGINAL-URL:https://flordefango.nl
X-WR-CALDESC:Evenementen voor Flor de Fango
REFRESH-INTERVAL;VALUE=DURATION:PT1H
X-Robots-Tag:noindex
X-PUBLISHED-TTL:PT1H
BEGIN:VTIMEZONE
TZID:Europe/Amsterdam
BEGIN:DAYLIGHT
TZOFFSETFROM:+0100
TZOFFSETTO:+0200
TZNAME:CEST
DTSTART:20250330T010000
END:DAYLIGHT
BEGIN:STANDARD
TZOFFSETFROM:+0200
TZOFFSETTO:+0100
TZNAME:CET
DTSTART:20251026T010000
END:STANDARD
BEGIN:DAYLIGHT
TZOFFSETFROM:+0100
TZOFFSETTO:+0200
TZNAME:CEST
DTSTART:20260329T010000
END:DAYLIGHT
BEGIN:STANDARD
TZOFFSETFROM:+0200
TZOFFSETTO:+0100
TZNAME:CET
DTSTART:20261025T010000
END:STANDARD
BEGIN:DAYLIGHT
TZOFFSETFROM:+0100
TZOFFSETTO:+0200
TZNAME:CEST
DTSTART:20270328T010000
END:DAYLIGHT
BEGIN:STANDARD
TZOFFSETFROM:+0200
TZOFFSETTO:+0100
TZNAME:CET
DTSTART:20271031T010000
END:STANDARD
END:VTIMEZONE
BEGIN:VEVENT
DTSTART;TZID=Europe/Amsterdam:20260131T183000
DTEND;TZID=Europe/Amsterdam:20260131T194500
DTSTAMP:20260420T192439
CREATED:20251218T100333Z
LAST-MODIFIED:20260112T214603Z
UID:10000256-1769884200-1769888700@flordefango.nl
SUMMARY:ZA 31 JAN - Workshop Alexander Techniek door Mariano Laplume
DESCRIPTION:Workshop Alexander Techniek door Mariano Laplume\nThis workshop aims to integrate the tools of the Alexander Technique into some of the critical points in tango dancing like balance\, intention\, poise/posture and ease of movement. \nAbout Alexander Technique:\nThe Alexander Technique teaches us a better use of the body in all our everyday activities.\nDuring the lessons\, we learn to recognize and modify our habits of coordination\, alignment and muscle tension that are not useful or beneficial\, to move towards more organic integration of movement.\nAnyone who wants to improve balance\, stability\, coordination and self-awareness can benefit from the practice of Alexander Technique. It’s benefits become particularly noticeable to people with functional pain or performers such as dancers\, musicians\, actors\, sportsperson\, who would like to maximize their use efficiency.” \nMariano Laplume\nMariano Laplume\, artist from Buenos Aires\, started developing his dance together with his overall body awareness\, alongside with his successful career as a Tango Teacher & Musician since 2003.  \nAs a musician\, Mariano had the good fortune to play as a violist in the Academic Orchestra of Teatro Colon of Buenos Aires\, Orchestra Tipica Imperial\, Orchestra Estilos Tangueros of Academia Nacional del Tango after which he cofounded and became known as the violinist of the internationally renowned and much loved Sexteto Milonguero\, playing in more than 40 milongas and festivals in Buenos Aires and over 100 more around the world. \nAs dancer Mariano studied Argentine Tango as a dance-form in Buenos Aires with a number of different well known and respected teachers.  \nIn 2012 he moved to London and created the tango School & Milonga Tango Garden. Also Teachign and performing in several cities in Europe. In 2018 he moved to Rotterdam where he is settled being regular collaborator with different Dutch Tango schools like Cuartito Azul in Rotterdam and Check2Cheeck in Amersfoort. \nNa de workshop is er een modern Tango Salon\, DJ is ook weer Mariano Laplume.\n \n\n	Workshop Alexander Techniek door Mariano Laplume\n	€ 20\,00 incl. btw\nToevoegen aan winkelwagen
URL:https://flordefango.nl/evenement/za-29-nov-workshop-alexander-techniek-door-mariano-laplume/
LOCATION:Wezenstraat 5a\, Arnhem\, 6811 CR\, Nederland
CATEGORIES:alle niveaus,Workshop
ATTACH;FMTTYPE=image/jpeg:https://flordefango.nl/wp-content/uploads/2025/12/20260131-Modern-tango-salon-Mariano-Laplume.jpg
END:VEVENT
END:VCALENDAR