BEGIN:VCALENDAR
VERSION:2.0
PRODID:-//Flor de Fango - ECPv6.15.20//NONSGML v1.0//EN
CALSCALE:GREGORIAN
METHOD:PUBLISH
X-WR-CALNAME:Flor de Fango
X-ORIGINAL-URL:https://flordefango.nl
X-WR-CALDESC:Evenementen voor Flor de Fango
REFRESH-INTERVAL;VALUE=DURATION:PT1H
X-Robots-Tag:noindex
X-PUBLISHED-TTL:PT1H
BEGIN:VTIMEZONE
TZID:Europe/Amsterdam
BEGIN:DAYLIGHT
TZOFFSETFROM:+0100
TZOFFSETTO:+0200
TZNAME:CEST
DTSTART:20230326T010000
END:DAYLIGHT
BEGIN:STANDARD
TZOFFSETFROM:+0200
TZOFFSETTO:+0100
TZNAME:CET
DTSTART:20231029T010000
END:STANDARD
BEGIN:DAYLIGHT
TZOFFSETFROM:+0100
TZOFFSETTO:+0200
TZNAME:CEST
DTSTART:20240331T010000
END:DAYLIGHT
BEGIN:STANDARD
TZOFFSETFROM:+0200
TZOFFSETTO:+0100
TZNAME:CET
DTSTART:20241027T010000
END:STANDARD
BEGIN:DAYLIGHT
TZOFFSETFROM:+0100
TZOFFSETTO:+0200
TZNAME:CEST
DTSTART:20250330T010000
END:DAYLIGHT
BEGIN:STANDARD
TZOFFSETFROM:+0200
TZOFFSETTO:+0100
TZNAME:CET
DTSTART:20251026T010000
END:STANDARD
END:VTIMEZONE
BEGIN:VEVENT
DTSTART;TZID=Europe/Amsterdam:20240702T200000
DTEND;TZID=Europe/Amsterdam:20240702T230000
DTSTAMP:20260420T124755
CREATED:20240523T142356Z
LAST-MODIFIED:20240523T142356Z
UID:10000015-1719950400-1719961200@flordefango.nl
SUMMARY:DI 2 JUL - Flor de Practicar: Kyra: Walsmusicaliteit & techniek
DESCRIPTION:Flor de Practicar\nWekelijks dansen en elkaar ontmoeten in een ontspannen sfeer. Een gelegenheid om te oefenen\, met elkaar of anderen. Let op het Workshop programma.\nDance and meet each other in a relaxed atmosphere. \nWeekly on tuesday evening you can come and dance tango and meet people at our Flor de Practicar. Sometimes there are workshops before:\n► 19.00 workshop (not every week! check facebook/website for program)\n► 20.00-23.00 Flor de Practicar \nMuziek: standaard een Playlist\, soms een DJ. Mix is minimaal 80/20.\nDe danszaal van Flor de Fango heeft een heerlijke houten vloer\, ligt in het ♥️ van Arnhem: 10 min. lopen van Arnhem Centraal station en net zover van parkeergarage Musis. \nWorkshop Kyra: Walsmusicaliteit & techniek\nTickets workshop à €10\,- kun je kopen aan de bar/ for sale at the bar.\nWorkshopprogramma\n\nDI 9 JUL – Flor de Practicar: Pieter: Navigatie en Etiquette\nDI 6 AUG – Flor de Practicar: Kyra: Vreugde in Draaien\nDI 20 AUG – Flor de Practicar: Begeleid Practicum door Jacqueline (€5)\nDI 3 SEP – Flor de Practicar: Begeleid Practicum door Jacqueline (€5)\nDI 17 SEP – Flor de Practicar: Begeleid Practicum door Jacqueline (€5)\n\nTickets salon à € 6\, – kun je kopen aan de bar.\nTickets salon à € 6\, – for sale at the bar.\nTravel\, eat\, sleep in Arnhem?\nTips voor reizen\, eten\, slapen in Arnhem? Zie onze pagina Travel\, eat and sleep in Arnhem \n 
URL:https://flordefango.nl/evenement/di-2-jul-flor-de-practicar-kyra-walsmusicaliteit-techniek-2/
LOCATION:Wezenstraat 5a\, Arnhem\, 6811 CR\, Nederland
CATEGORIES:alle niveaus,Tango cafe,Workshop
ATTACH;FMTTYPE=image/jpeg:https://flordefango.nl/wp-content/uploads/2023/12/2024-Poster-A3-banner-Flor-de-Practicar.jpg
END:VEVENT
BEGIN:VEVENT
DTSTART;TZID=Europe/Amsterdam:20240703T170000
DTEND;TZID=Europe/Amsterdam:20240703T230000
DTSTAMP:20260420T124755
CREATED:20240425T102751Z
LAST-MODIFIED:20240425T102751Z
UID:10000009-1720026000-1720047600@flordefango.nl
SUMMARY:WO 3 JUL - International Street Tango - DJ El Fresco
DESCRIPTION:International Street Tango – DJ El Fresco\nAl jaren organiseert Flor de Fango in de zomer buitensalons. Tussen de oude pakhuizen en naast het restaurant van Restaurant Verheyden creëert dit een bijna buitenlandse sfeer. Een plek waar we even uit de tijd kunnen stappen. Een plek om elkaar te ontmoeten. Het feit dat dansers en niet-dansers een plekje bij Restaurant Verheyden met zicht op het podium reserveren tijdens onze salon laat wel zien dat deze sfeer gewaardeerd wordt.\nRegen? Dan gaan we naar binnen. Zelfde tijd\, maar je blijft droog. \nEN: all summer long we put the door wide open and do ‘Tango in the street’ in front of the Flor de Fango dance hall. In the narrow street between the old buildings it’s a great atmosphere.\nBad weather? We go inside. Same time\, but you stay dry \nDJ El Fresco\nDe grote orkesten uit de epoca d’oro vormen de basis van zijn sets. In deze tanda’s komt zijn visie op balans en afwisseling ook terug. “Elke tanda heeft een rode draad. Een lijn die de dansers herkennen. Dat vormt de balans. Toch kies ik ervoor om in zo’n tanda ook een nummer te kiezen dat een klein beetje ‘schuurt’. De avond mag muzikaal best een beetje spannend zijn”. \nSeizoen 2024\nWO 3 JUL – International Street Tango met DJ El Fresco\nWO 31 JUL – Summerdaze Street Tango met DJ Joost Brunsting\nZA 31 AUG – Modern Street Tango met DJ Ezequiel\nZA 14 SEP – Traditional Street Tango met DJ El Gerito \nTicket € 10\, – pay at the entrance/bar.\nJe kan tot 18:30 uur een maaltijd bestellen aan de bar. \nEN: Tickets at the bar. You can order a simpel meal at the bar until 18:30 o’clock. \nWe have a webpage that offers tips for eating\, sleaping and traveling in/to Arnhem.
URL:https://flordefango.nl/evenement/wo-3-jul-international-street-tango-dj-el-fresco-2/
LOCATION:Wezenstraat 5a\, Arnhem\, 6811 CR\, Nederland
CATEGORIES:alle niveaus,Salon,Straattango - buitensalon
END:VEVENT
BEGIN:VEVENT
DTSTART;TZID=Europe/Amsterdam:20240707T160000
DTEND;TZID=Europe/Amsterdam:20240707T220000
DTSTAMP:20260420T124755
CREATED:20240523T143244Z
LAST-MODIFIED:20240523T143244Z
UID:10000020-1720368000-1720389600@flordefango.nl
SUMMARY:ZO 7 JUL - Té Danzante - DJ Gata Negra
DESCRIPTION:Om de maand\, het eerste weekend op zondag houden we bij Flor de Fango een ’té danzante’: een vroege avond dansen op traditionele muziek\, speels dansbaar\, cortinas.\nEN – the Té Danzante we organise every other month on Sunday of the 1st weekend of the month. Music: 100% traditional\, playful danceable\, cortinas.  \nDJ Gata Negra\nKaraKedi Tango (DJ La Gata Negra) https://www.facebook.com/KaraKediTango/ \nDe interesse in Tango van Hilal is begonnen bij een Tango Flamenco-show die ze zag in het universiteitstheater in METU Ankara. Vanaf het allereerste begin was muziek het belangrijkste aspect van Hilal’s tango. Ze begon te leren DJ-en terwijl ze danslessen volgde en haar eerste stappen oefende. In korte tijd draaide ze op lokale Tango-evenementen in Porto. \nSinds 2013 woont ze in Leiden en draait ze regelmatig op nationale en internationale evenementen. Haar DJ-bijnaam La Gata Negra werd haar gegeven bij Milonga Los Locos in Amsterdam vanwege haar bewondering voor zwarte katten. \nDJ La Gata Negra houdt ervan om tijdens de milonga een romantische\, passionele en vrolijke sfeer te creëren. Ze kiest zorgvuldig haar tanda’s in harmonie met de dansers en behoudt tot het einde een positieve en hartverwarmende stemming. Haar belangrijkste regel is dat ze alleen de liedjes draait waar ze zelf graag op danst. \nCommunicatie en verbinding is erg belangrijk voor haar en ze voelt zich ongelooflijk gelukkig als ze de glimlach en glinsteringen ziet in de ogen van de dansers terwijl ze dansen op haar muziekkeuze. Ze houdt van chocolade en er staat altijd een grote taart of bonbons naast haar DJ-set\, om te delen met de dansers. \nTicket € 10\, – pay at the entrance/bar.\nJe kan tot 18:30 uur een maaltijd bestellen aan de bar. \nEN: Tickets at the bar. You can order a simpel meal at the bar until 18:30 o’clock. \nWe have a webpage that offers tips for eating\, sleaping and traveling in/to Arnhem.
URL:https://flordefango.nl/evenement/zo-7-jul-te-danzante-dj-gata-negra-2/
LOCATION:Wezenstraat 5a\, Arnhem\, 6811 CR\, Nederland
CATEGORIES:alle niveaus,Danzante,Té Dansante
END:VEVENT
BEGIN:VEVENT
DTSTART;TZID=Europe/Amsterdam:20240709T200000
DTEND;TZID=Europe/Amsterdam:20240709T230000
DTSTAMP:20260420T124755
CREATED:20240523T142541Z
LAST-MODIFIED:20240523T142541Z
UID:10000016-1720555200-1720566000@flordefango.nl
SUMMARY:DI 9 JUL - Flor de Practicar - Workshop Pieter: Navigatie en Etiquette
DESCRIPTION:Flor de Practicar\nWekelijks dansen en elkaar ontmoeten in een ontspannen sfeer. Een gelegenheid om te oefenen\, met elkaar of anderen. Let op het Workshop programma.\nDance and meet each other in a relaxed atmosphere. \nWeekly on tuesday evening you can come and dance tango and meet people at our Flor de Practicar. Sometimes there are workshops before:\n► 19.00 workshop (not every week! check facebook/website for program)\n► 20.00-23.00 Flor de Practicar \nMuziek: standaard een Playlist\, soms een DJ. Mix is minimaal 80/20.\nDe danszaal van Flor de Fango heeft een heerlijke houten vloer\, ligt in het ♥️ van Arnhem: 10 min. lopen van Arnhem Centraal station en net zover van parkeergarage Musis. \nWorkshop Pieter: Navigatie en Etiquette\nTickets workshop à € 10\, – kun je kopen aan de bar / for sale at the bar.\nWorkshopprogramma\n\nDI 6 AUG – Flor de Practicar: Kyra: Vreugde in Draaien\nDI 20 AUG – Flor de Practicar: Begeleid Practicum door Jacqueline (€5)\nDI 3 SEP – Flor de Practicar: Begeleid Practicum door Jacqueline (€5)\nDI 17 SEP – Flor de Practicar: Begeleid Practicum door Jacqueline (€5)\n\nTickets salon à € 6\, – kun je kopen aan de bar.\nTickets salon à € 6\, – for sale at the bar.\nTravel\, eat\, sleep in Arnhem?\nTips voor reizen\, eten\, slapen in Arnhem? Zie onze pagina Travel\, eat and sleep in Arnhem \n 
URL:https://flordefango.nl/evenement/di-9-jul-flor-de-practicar-workshop-pieter-navigatie-en-etiquette-2/
LOCATION:Wezenstraat 5a\, Arnhem\, 6811 CR\, Nederland
CATEGORIES:alle niveaus,Tango cafe
ATTACH;FMTTYPE=image/jpeg:https://flordefango.nl/wp-content/uploads/2023/12/2024-Poster-A3-banner-Flor-de-Practicar.jpg
END:VEVENT
BEGIN:VEVENT
DTSTART;TZID=Europe/Amsterdam:20240713T200000
DTEND;TZID=Europe/Amsterdam:20240714T000000
DTSTAMP:20260420T124755
CREATED:20240523T141330Z
LAST-MODIFIED:20240523T141330Z
UID:10000014-1720900800-1720915200@flordefango.nl
SUMMARY:ZA 13 JUL - Milonga Tradicional met optreden van Tango Tinta Roja\, Brotzman - Cardozo - DJ Acquelina
DESCRIPTION:Milonga Tradicional met optreden van Tango Tinta Roja\, Brotzman – Cardozo – DJ Acquelina\n2e zaterdag van 20.00 uur tot 0.00 uur. Traditioneel\, 100%. Een kleinschalige milonga mét DJ. Dj’s draaien traditionele Argentijnse tango-muziek in tanda’s (blokjes van ongeveer 4 nummers met dezelfde soort tango-muziek). Er wordt gebruik gemaakt van cortina’s.  \nTango Tinta Roja\, Brotzman – Cardozo\nDe Argentijnse muzikanten Pablo Brotzman (mondharmonica) en Pablo Cardozo (gitaar) vormen sinds 2013 het Argentijnse muziekduo. Ze spelen tango’s\, walsen\, milonga’s en Argentijnse folklore. Hun muziek bestaat uit een selectie van traditionele liederen zoals “Mano a Mano”\, “El Choclo”\, “La Trampera”\, “Soledad”\, “Flor de Lino” en “Milonga Triste”. Het duo ontwikkelt niet alleen muzikale arrangementen\, maar blinkt ook uit door een harmonieuze en intuïtieve interactie. \nOver hun carrière: In 2015 ondernamen ze hun eerste internationale tournee door Duitsland\, Oostenrijk\, Frankrijk\, Italië\, België\, Nederland\, Zwitserland en Polen. In 2016 maakten ze hun tweede Europese tournee en presenteerden ze hun tweede album “Tango Tour” aan publiek in Duitsland\, Polen en Nederland. Deze tour vindt plaats in juni\, juli en augustus 2024 in Duitsland\, Nederland\, Zwitserland en Oostenrijk. Vrijdag 12 juli spelen ze in Hamburg\, zaterdag bij Flor en zondag in Aken. \nTijdens de salon spelen ze 2 dansbare sets\, na het optreden gaan ze met de (digitale) pet rond. \nDJ Acquelina\nJacqueline zegt: “ik ben de dansende DJ met een voorkeur voor klassiek\, met extra aandacht voor walsjes en een knipoogje naar Neo. Ik heb ge-DJanet in Aken\, Utrecht en Nijmegen en nu voor jullie bij Flor de Fango in Arnhem” \nTicket à € 10\, – aan de bar. Tickets for sale at the bar.\nTips voor reizen\, eten\, slapen in Arnhem? Zie onze pagina Travel\, eat and sleep in Arnhem
URL:https://flordefango.nl/evenement/za-13-jul-milonga-tradicional-met-optreden-van-tango-tinta-roja-brotzman-cardozo-dj-acquelina-2/
LOCATION:Wezenstraat 5a\, Arnhem\, 6811 CR\, Nederland
CATEGORIES:alle niveaus,Milonga Tradicional,Salon
ATTACH;FMTTYPE=image/jpeg:https://flordefango.nl/wp-content/uploads/2024/04/20240713-tradicional-Tango-Tinta-Roja-Brotzman-Cardozo.jpg
END:VEVENT
BEGIN:VEVENT
DTSTART;TZID=Europe/Amsterdam:20240716T200000
DTEND;TZID=Europe/Amsterdam:20240716T230000
DTSTAMP:20260420T124755
CREATED:20240523T142634Z
LAST-MODIFIED:20240523T142634Z
UID:10000017-1721160000-1721170800@flordefango.nl
SUMMARY:DI 16 JUL - Flor de Practicar
DESCRIPTION:Flor de Practicar\nWekelijks dansen en elkaar ontmoeten in een ontspannen sfeer. Een gelegenheid om te oefenen\, met elkaar of anderen. Let op het Workshop programma.\nDance and meet each other in a relaxed atmosphere. \nWeekly on tuesday evening you can come and dance tango and meet people at our Flor de Practicar. Sometimes there are workshops before:\n► 19.00 workshop (not every week! check facebook/website for program)\n► 20.00-23.00 Flor de Practicar \nMuziek: standaard een Playlist\, soms een DJ. Mix is minimaal 80/20.\nDe danszaal van Flor de Fango heeft een heerlijke houten vloer\, ligt in het ♥️ van Arnhem: 10 min. lopen van Arnhem Centraal station en net zover van parkeergarage Musis. \nWorkshopprogramma\n\nDI 6 AUG – Flor de Practicar: Kyra: Vreugde in Draaien\nDI 20 AUG – Flor de Practicar: Begeleid Practicum door Jacqueline (€5)\nDI 3 SEP – Flor de Practicar: Begeleid Practicum door Jacqueline (€5)\nDI 17 SEP – Flor de Practicar: Begeleid Practicum door Jacqueline (€5)\n\nTickets salon à € 6\, – kun je kopen aan de bar.\nTickets salon à € 6\, – for sale at the bar.\nTravel\, eat\, sleep in Arnhem?\nTips voor reizen\, eten\, slapen in Arnhem? Zie onze pagina Travel\, eat and sleep in Arnhem \n 
URL:https://flordefango.nl/evenement/di-16-jul-flor-de-practicar-2/
LOCATION:Wezenstraat 5a\, Arnhem\, 6811 CR\, Nederland
CATEGORIES:alle niveaus,Tango cafe
ATTACH;FMTTYPE=image/jpeg:https://flordefango.nl/wp-content/uploads/2023/12/2024-Poster-A3-banner-Flor-de-Practicar.jpg
END:VEVENT
BEGIN:VEVENT
DTSTART;TZID=Europe/Amsterdam:20240720T200000
DTEND;TZID=Europe/Amsterdam:20240721T000000
DTSTAMP:20260420T124755
CREATED:20240523T143504Z
LAST-MODIFIED:20240523T143504Z
UID:10000021-1721505600-1721520000@flordefango.nl
SUMMARY:ZA 20 JUL - Flor de Neo - DJ Rob
DESCRIPTION:Flor de Neo met DJ Rob\nSalon met 100% neo- en non-tango. \nFlor de Neo\, 4 uur Neo en 100% plezier. Wij draaien geen cortina’s\, cabaceo’s niet verplicht en je mag lekker dansen zoals jij dat wilt. \nTickets à € 10\, – te koop aan de bar.\nTickets for sale at the bar.\nZoek je informatie over reizen naar Flor\, verblijven in Arnhem of lekker eten voor je komt dansen? Kijk dan op onze tips-pagina.
URL:https://flordefango.nl/evenement/za-20-jul-flor-de-neo-dj-rob-2/
LOCATION:Wezenstraat 5a\, Arnhem\, 6811 CR\, Nederland
CATEGORIES:alle niveaus,Neolonga,Salon
ATTACH;FMTTYPE=image/jpeg:https://flordefango.nl/wp-content/uploads/2023/04/FLor-de-Neo17-06-e1687861063506.jpg
END:VEVENT
BEGIN:VEVENT
DTSTART;TZID=Europe/Amsterdam:20240723T200000
DTEND;TZID=Europe/Amsterdam:20240723T200000
DTSTAMP:20260420T124755
CREATED:20240523T142721Z
LAST-MODIFIED:20240523T142721Z
UID:10000018-1721764800-1721764800@flordefango.nl
SUMMARY:DI 23 JUL - Flor de Practicar
DESCRIPTION:Flor de Practicar\nWekelijks dansen en elkaar ontmoeten in een ontspannen sfeer. Een gelegenheid om te oefenen\, met elkaar of anderen. Let op het Workshop programma.\nDance and meet each other in a relaxed atmosphere. \nWeekly on tuesday evening you can come and dance tango and meet people at our Flor de Practicar. Sometimes there are workshops before:\n► 19.00 workshop (not every week! check facebook/website for program)\n► 20.00-23.00 Flor de Practicar \nMuziek: standaard een Playlist\, soms een DJ. Mix is minimaal 80/20.\nDe danszaal van Flor de Fango heeft een heerlijke houten vloer\, ligt in het ♥️ van Arnhem: 10 min. lopen van Arnhem Centraal station en net zover van parkeergarage Musis. \nWorkshopprogramma\n\nDI 6 AUG – Flor de Practicar: Kyra: Vreugde in Draaien\nDI 20 AUG – Flor de Practicar: Begeleid Practicum door Jacqueline (€5)\nDI 3 SEP – Flor de Practicar: Begeleid Practicum door Jacqueline (€5)\nDI 17 SEP – Flor de Practicar: Begeleid Practicum door Jacqueline (€5)\n\nTickets salon à € 6\, – kun je kopen aan de bar.\nTickets salon à € 6\, – for sale at the bar.\nTravel\, eat\, sleep in Arnhem?\nTips voor reizen\, eten\, slapen in Arnhem? Zie onze pagina Travel\, eat and sleep in Arnhem \n 
URL:https://flordefango.nl/evenement/di-23-jul-flor-de-practicar-2/
LOCATION:Wezenstraat 5a\, Arnhem\, 6811 CR\, Nederland
CATEGORIES:alle niveaus,Tango cafe
ATTACH;FMTTYPE=image/jpeg:https://flordefango.nl/wp-content/uploads/2023/12/2024-Poster-A3-banner-Flor-de-Practicar.jpg
END:VEVENT
BEGIN:VEVENT
DTSTART;TZID=Europe/Amsterdam:20240727T170000
DTEND;TZID=Europe/Amsterdam:20240727T230000
DTSTAMP:20260420T124755
CREATED:20240508T135809Z
LAST-MODIFIED:20240508T135809Z
UID:10000013-1722099600-1722121200@flordefango.nl
SUMMARY:ZA 27 JUL - Mixed Street Tango - DJ Isaac
DESCRIPTION:Mixed Street Tango – DJ Isaac\nAl jaren organiseert Flor de Fango in de zomer buitensalons. Tussen de oude pakhuizen en naast het restaurant van Restaurant Verheyden creëert dit een bijna buitenlandse sfeer. Een plek waar we even uit de tijd kunnen stappen. Een plek om elkaar te ontmoeten. Het feit dat dansers en niet-dansers een plekje bij Restaurant Verheyden met zicht op het podium reserveren tijdens onze salon laat wel zien dat deze sfeer gewaardeerd wordt.\nRegen? Dan gaan we naar binnen. Zelfde tijd\, maar je blijft droog. \nEN: all summer long we put the door wide open and do ‘Tango in the street’ in front of the Flor de Fango dance hall. In the narrow street between the old buildings it’s a great atmosphere.\nBad weather? We go inside. Same time\, but you stay dry \nDJ Isaac\nDJ isaac (van den Berg) is al meer dan 15 jaar een van de reguliere dj’s van Tipo Tango & De Scala in Eindhoven. Op zoek naar een warme dans-sfeer draait hij de klassieke orkesten uit de “gouden eeuw” van de argentijnse tango. Af en toe maakt hij een uitstapje naar non-tango waarbij het tango-gevoel niet verloren gaat. Persoonlijk houdt hij van mooie tango’s\, snelle walsen en vette milonga’s. \nSeizoen 2024\nWO 31 JUL – Summerdaze Street Tango met DJ Joost Brunsting\nZA 31 AUG – Modern Street Tango met DJ Ezequiel\nZA 14 SEP – Traditional Street Tango met DJ El Gerito \nTicket € 10\, – pay at the entrance/bar.\nJe kan tot 18:30 uur een maaltijd bestellen aan de bar. \nEN: Tickets at the bar. You can order a simpel meal at the bar until 18:30 o’clock. \nWe have a webpage that offers tips for eating\, sleaping and traveling in/to Arnhem.
URL:https://flordefango.nl/evenement/za-27-jul-mixed-street-tango-dj-isaac-2/
LOCATION:Wezenstraat 5a\, Arnhem\, 6811 CR\, Nederland
CATEGORIES:alle niveaus,Salon,Straattango - buitensalon
END:VEVENT
BEGIN:VEVENT
DTSTART;TZID=Europe/Amsterdam:20240730T200000
DTEND;TZID=Europe/Amsterdam:20240730T200000
DTSTAMP:20260420T124755
CREATED:20240523T142810Z
LAST-MODIFIED:20240523T142810Z
UID:10000019-1722369600-1722369600@flordefango.nl
SUMMARY:DI 30 JUL - Flor de Practicar
DESCRIPTION:Flor de Practicar\nWekelijks dansen en elkaar ontmoeten in een ontspannen sfeer. Een gelegenheid om te oefenen\, met elkaar of anderen. Let op het Workshop programma.\nDance and meet each other in a relaxed atmosphere. \nWeekly on tuesday evening you can come and dance tango and meet people at our Flor de Practicar. Sometimes there are workshops before:\n► 19.00 workshop (not every week! check facebook/website for program)\n► 20.00-23.00 Flor de Practicar \nMuziek: standaard een Playlist\, soms een DJ. Mix is minimaal 80/20.\nDe danszaal van Flor de Fango heeft een heerlijke houten vloer\, ligt in het ♥️ van Arnhem: 10 min. lopen van Arnhem Centraal station en net zover van parkeergarage Musis. \nWorkshopprogramma\n\nDI 6 AUG – Flor de Practicar: Kyra: Vreugde in Draaien\nDI 20 AUG – Flor de Practicar: Begeleid Practicum door Jacqueline (€5)\nDI 3 SEP – Flor de Practicar: Begeleid Practicum door Jacqueline (€5)\nDI 17 SEP – Flor de Practicar: Begeleid Practicum door Jacqueline (€5)\n\nTickets salon à € 6\, – kun je kopen aan de bar.\nTickets salon à € 6\, – for sale at the bar.\nTravel\, eat\, sleep in Arnhem?\nTips voor reizen\, eten\, slapen in Arnhem? Zie onze pagina Travel\, eat and sleep in Arnhem \n 
URL:https://flordefango.nl/evenement/di-30-jul-flor-de-practicar-2/
LOCATION:Wezenstraat 5a\, Arnhem\, 6811 CR\, Nederland
CATEGORIES:alle niveaus,Tango cafe
ATTACH;FMTTYPE=image/jpeg:https://flordefango.nl/wp-content/uploads/2023/12/2024-Poster-A3-banner-Flor-de-Practicar.jpg
END:VEVENT
BEGIN:VEVENT
DTSTART;TZID=Europe/Amsterdam:20240731T170000
DTEND;TZID=Europe/Amsterdam:20240801T000000
DTSTAMP:20260420T124755
CREATED:20240425T103137Z
LAST-MODIFIED:20240425T103137Z
UID:10000010-1722445200-1722470400@flordefango.nl
SUMMARY:WO 31 JUL - Summerdaze Street Tango met kleding van Riet - DJ Joost Brunsting
DESCRIPTION:Summerdaze Street Tango met kleding van Riet – DJ Joost Brunsting\nAl jaren organiseert Flor de Fango in de zomer buitensalons. Tussen de oude pakhuizen en naast het restaurant van Restaurant Verheyden creëert dit een bijna buitenlandse sfeer. Een plek waar we even uit de tijd kunnen stappen. Een plek om elkaar te ontmoeten. Het feit dat dansers en niet-dansers een plekje bij Restaurant Verheyden met zicht op het podium reserveren tijdens onze salon laat wel zien dat deze sfeer gewaardeerd wordt.\nRegen? Dan gaan we naar binnen. Zelfde tijd\, maar je blijft droog. \nEN: all summer long we put the door wide open and do ‘Tango in the street’ in front of the Flor de Fango dance hall. In the narrow street between the old buildings it’s a great atmosphere.\nBad weather? We go inside. Same time\, but you stay dry \nDJ Joost Brunsting\nTangomuziek is mijn passie en de vele bezoeken aan Buenos Aires hebben me nog meer inspiratie gegeven. Mijn hart ligt bij de Época de Oro\, het geeft veel voldoening om de beste tango’s uit deze periode te spelen (met ook een paar zeldzame en verrassende juweeltjes). Ik draai veel in Nederland en Duitsland\, o.m. op festivals en encuentros. \nMijn DJ-set bestaat uit een rijk gevarieerde mix van energieke\, gevoelige en romantische tanda’s. Daarbij volg ik de stemming en smaak van de dansers. Van de eerste tot de laatste tanda krijgen ze de juiste energie. Gecombineerd met zorgvuldig gekozen\, levendige cortina’s wordt elke milonga een FIESTA! \nRiet verkoopt kleding!\nSeizoen 2024\nWO 31 JUL – Summerdaze Street Tango met DJ Joost Brunsting\nZA 31 AUG – Modern Street Tango met DJ Ezequiel\nZA 14 SEP – Traditional Street Tango met DJ El Gerito \nTicket € 10\, – pay at the entrance/bar.\nJe kan tot 18:30 uur een maaltijd bestellen aan de bar. \nEN: Tickets at the bar. You can order a simpel meal at the bar until 18:30 o’clock. \nWe have a webpage that offers tips for eating\, sleaping and traveling in/to Arnhem.
URL:https://flordefango.nl/evenement/wo-31-jul-summerdaze-street-tango-met-kleding-van-riet-dj-joost-brunsting/
LOCATION:Wezenstraat 5a\, Arnhem\, 6811 CR\, Nederland
CATEGORIES:alle niveaus,Salon,Straattango - buitensalon
ATTACH;FMTTYPE=image/jpeg:https://flordefango.nl/wp-content/uploads/2018/04/jan-wenneker-summerdaze.jpg
END:VEVENT
END:VCALENDAR