BEGIN:VCALENDAR
VERSION:2.0
PRODID:-//Flor de Fango - ECPv6.15.20//NONSGML v1.0//EN
CALSCALE:GREGORIAN
METHOD:PUBLISH
X-ORIGINAL-URL:https://flordefango.nl
X-WR-CALDESC:Evenementen voor Flor de Fango
REFRESH-INTERVAL;VALUE=DURATION:PT1H
X-Robots-Tag:noindex
X-PUBLISHED-TTL:PT1H
BEGIN:VTIMEZONE
TZID:Europe/Amsterdam
BEGIN:DAYLIGHT
TZOFFSETFROM:+0100
TZOFFSETTO:+0200
TZNAME:CEST
DTSTART:20250330T010000
END:DAYLIGHT
BEGIN:STANDARD
TZOFFSETFROM:+0200
TZOFFSETTO:+0100
TZNAME:CET
DTSTART:20251026T010000
END:STANDARD
BEGIN:DAYLIGHT
TZOFFSETFROM:+0100
TZOFFSETTO:+0200
TZNAME:CEST
DTSTART:20260329T010000
END:DAYLIGHT
BEGIN:STANDARD
TZOFFSETFROM:+0200
TZOFFSETTO:+0100
TZNAME:CET
DTSTART:20261025T010000
END:STANDARD
BEGIN:DAYLIGHT
TZOFFSETFROM:+0100
TZOFFSETTO:+0200
TZNAME:CEST
DTSTART:20270328T010000
END:DAYLIGHT
BEGIN:STANDARD
TZOFFSETFROM:+0200
TZOFFSETTO:+0100
TZNAME:CET
DTSTART:20271031T010000
END:STANDARD
END:VTIMEZONE
BEGIN:VEVENT
DTSTART;TZID=Europe/Amsterdam:20260314T200000
DTEND;TZID=Europe/Amsterdam:20260315T000000
DTSTAMP:20260419T162707
CREATED:20260109T121326Z
LAST-MODIFIED:20260313T163546Z
UID:10000263-1773518400-1773532800@flordefango.nl
SUMMARY:ZA 14 MAR - Milonga Tradicional met show Alberto & Céline - DJ 21
DESCRIPTION:Milonga Tradicional met show Alberto & Céline – DJ 21\nDit hele weekend workshops van Alberto Colombo & Céline Ruiz: Tango Foundations\, zie aldaar. \nEen kleinschalige maandelijkse zaterdagavond milonga.  Dj’s draaien traditionele Argentijnse tango-muziek. Tanda’s en cortina’s. Fijne houten vloer. \nEN | DJ’s play traditional Argentine tango-music at our intimite\, monthly Milonga Tradicional on saturday evening. Tandas & cortinas. Beautiful wooden floor. \nShow Alberto & Céline\n \nDJ 21 (Toine Straatman)\n’Wat je stemming ook is\, er is altijd een tango die perfect past’ \nAls DJ denk ik als danser en probeer de perfecte dynamiek en flow te creëren\, speel met stijlen\, varieer de orkesten en zangers uit de rijke wereld van de tangomuziek om ons te inspireren.  Zelfs de cortina’s hebben hun functie….  ze zijn niet alleen een pauze\, maar een brug naar een nieuw dansavontuur. Ik streef naar de energie en dynamiek die ik voelde in de milonga’s van BsAs. \nAls docent uiteraard altijd bezig met de impact van de muziek op de dans\, als DJ heb ik ervaring uitgebouwd bij lokale salons en ben vervolgens gevraagd voor grote events en encuentro’s in binnen- en buitenland. \nDansers gelukkig maken; dat is het enige waar het om gaat als DJ! \nhttps://drive.google.com/file/d/1xrhT3ED09IHFFvFWuda-iXbxGWE0pxPI/view?usp=sharing \n \nTicket à €18\,- te koop aan de bar/for sale at the bar
URL:https://flordefango.nl/evenement/za-14-mar-milonga-tradicional-met-show-alberto-celine-dj-21/
LOCATION:Wezenstraat 5a\, Arnhem\, 6811 CR\, Nederland
CATEGORIES:alle niveaus,Show,Tangocafé | Oefenavond,Workshop
ATTACH;FMTTYPE=image/jpeg:https://flordefango.nl/wp-content/uploads/2025/12/2026-Tradicional.jpg
END:VEVENT
BEGIN:VEVENT
DTSTART;TZID=Europe/Amsterdam:20260322T160000
DTEND;TZID=Europe/Amsterdam:20260322T220000
DTSTAMP:20260419T162707
CREATED:20260109T143429Z
LAST-MODIFIED:20260316T123203Z
UID:10000273-1774195200-1774216800@flordefango.nl
SUMMARY:ZO 22 MAR - Flor Cocktails: preview ‘Viva el Tango’\, LIVE muziek\, cocktails en maaltijd - DJ Mariano Laplume
DESCRIPTION:Flor Cocktails: preview ‘Viva el Tango’\, LIVE muziek\, cocktails en maaltijd – DJ Mariano Laplume\nProgramma\n16.00 – 17.00 uur: Happy Cocktail hour (€2\,50) natuurlijk dansen met DJ Mariano Laplume\n17.00 – 17.20 uur: “los Trovadores del Tango” live music: gitaar\, zang en viool\n17.20 – 18.20 uur: dansen met DJ Mariano Laplume\n18.20 – 18.50 uur: maaltijd (soep\, taarten\, salade)\n20.00 – 20.15 uur: Preview Jubileum Tango/Theater ‘Viva el Tango’ (uitvoering in Tango weekend 18/19 april in Theater de Leeuw’)\n20.15 – 22.00 uur: verder dansen met DJ Mariano Laplume \nLos Trovadores del tango\nHenk Bruinsma en Herman van Mal op gitaar\, viool en zang.\nBij hun eerste officiële optreden speelt het duo tangomuziek uit de “golden age”\, ze hopen met hun gevoelige snaren onze “gevoelige snaren” te raken. Ze zijn beiden zeer ervaren tangodansers en spelen nu voor de dansers enkele zeer dansbare walsen en tango’s. Luisteren: nee\, dansen: ja! \nDJ Mariano Laplume\nMariano Laplume\, artist from Buenos Aires\, started developing his dance together with his overall body awareness\, alongside with his successful career as a Tango Teacher & Musician since 2003.  \nAs a musician\, Mariano had the good fortune to play as a violist in the Academic Orchestra of Teatro Colon of Buenos Aires\, Orchestra Tipica Imperial\, Orchestra Estilos Tangueros of Academia Nacional del Tango after which he cofounded and became known as the violinist of the internationally renowned and much loved Sexteto Milonguero\, playing in more than 40 milongas and festivals in Buenos Aires and over 100 more around the world. \nIn the last few years Mariano has been developing a series of tango music seminars and workshops based on his experience and as a musician and dancer to help social tango dancers understand tango music and 100% practical tools for integrating that knowledge into the dance. \nTraditioneel\, 100%: Traditionele muziek\, speels\, dansbaar\, tanda’s & cortina’s. \nTickets: Flor Cocktails €15\,- te koop aan de bar. \nMaaltijd: Maaltijd à €5: Opgeven voor 20 maart met een mail naar events@flordefango.nl \n 
URL:https://flordefango.nl/evenement/zo-22-mrt-flor-cocktails/
LOCATION:Wezenstraat 5a\, Arnhem\, 6811 CR\, Nederland
CATEGORIES:alle niveaus,demonstratie,Show
ATTACH;FMTTYPE=image/jpeg:https://flordefango.nl/wp-content/uploads/2026/03/20260322-flor-cocktails-trovaderes.jpg
END:VEVENT
BEGIN:VEVENT
DTSTART;TZID=Europe/Amsterdam:20260328T200000
DTEND;TZID=Europe/Amsterdam:20260329T000000
DTSTAMP:20260419T162707
CREATED:20260303T110714Z
LAST-MODIFIED:20260303T111406Z
UID:10000275-1774728000-1774742400@flordefango.nl
SUMMARY:ZA 28 MAR - Modern Tango - DJ Roberto
DESCRIPTION:Modern Tango salon met DJ Roberto\nZaterdag en zondag zijn er workshops door Roberto Rizzo en Tessa Breve. \nRoberto en Tessa zullen tijdens de salon een show presenteren waar ze onder andere met hun masterclass tools zullen schitteren \nDe Tango wordt hier gevierd als levend cultureel erfgoed\, met de nadruk op eigentijdse tangomuziek. De DJ draait 30% traditioneel en 70% moderne orkesten van de 21e eeuw\, neo\, en een beetje non-tango: altijd alles met veel Tango-gevoel.  \nDJ Roberto\nTicket € 12\, – pay at the entrance/bar.
URL:https://flordefango.nl/evenement/za-28-mar-modern-tango-dj-roberto/
LOCATION:Wezenstraat 5a\, Arnhem\, 6811 CR\, Nederland
CATEGORIES:alle niveaus,demonstratie,Show
ATTACH;FMTTYPE=image/jpeg:https://flordefango.nl/wp-content/uploads/2026/03/20260328-Modern-tango-salon-Roberto-Tessa.jpg
END:VEVENT
BEGIN:VEVENT
DTSTART;VALUE=DATE:20260418
DTEND;VALUE=DATE:20260419
DTSTAMP:20260419T162707
CREATED:20260105T193623Z
LAST-MODIFIED:20260319T215845Z
UID:10000261-1776470400-1776556799@flordefango.nl
SUMMARY:ZA 18 en ZO 19 APR - Viva el Tango! Jubileumvoorstelling @theater De Leeuw
DESCRIPTION:Viva el Tango! – coproductie met muziektheater Rood Mos \nOm dit jubileum te markeren en vieren maakt Flor de Fango in samenwerking met Muziektheater Rood Mos de voorstelling Viva el Tango! Een ode aan de literatuur\, de muziek én de dans van de tango. Een voorstelling in de unieke cast van 3 acteurs/zangers\, een tango ensemble én de p/m honderd tangodansers van Flor de Fango. Komt dat zien! \nSPEELDATA\, TIJDEN\, LOCATIE\, PRIJZEN en TICKETVERKOOP \nZaterdag 18 april 20.00 uur en\nZondag 19 april 13.00 uur en 15.00 uur\, \nTheater de Leeuw\, Leeuwensteinplein 1\, Arnhem. \nPrijs €20/€15 \nKoop je ticket via rood-mos.weticket.io/viva-el-tango \n \nEXTRA INFORMATIE over VIVA EL TANGO!  \nIn 2023 maakte Rood Mos de voorstelling Coconelli & Co; over de geschiedenis van de grootscheepse Europese migratie rond 1900 naar Buenos Aires en de tango cultuur die daar toen ontstaan is. Viva el Tango is te zien als een soort van vervolg op deze voorstelling. Een mix van geschiedenis\, persoonlijke lotgevallen én\, in dit geval\, heel veel dans! Tango\, wel te verstaan! \nAlbert Hoex\, artistiek leider van Rood Mos\, is de afgelopen vijftien jaar als tangodanser opgeleid binnen Flor de Fango. Voor Viva el Tango schrijft hij het libretto en voert hij de regie en combineert hij zijn theatrale vakmanschap met zijn liefde voor de tango en zijn verbond met Flor de Fango. \nBron: www.muziektheaterroodmos.nl
URL:https://flordefango.nl/evenement/za-en-zo-18-en-19-apr-viva-el-tango-jubileumvoorstelling-theater-de-leeuw/2026-04-18/
LOCATION:Theater De Leeuw\, Leeuwensteinplein 1\, Arnhem\, 6824 DA\, Nederland
CATEGORIES:presentatie,Show
ATTACH;FMTTYPE=image/jpeg:https://flordefango.nl/wp-content/uploads/2025/12/20260418-Viva-el-Tango.jpg
END:VEVENT
BEGIN:VEVENT
DTSTART;TZID=Europe/Amsterdam:20260425T200000
DTEND;TZID=Europe/Amsterdam:20260426T000000
DTSTAMP:20260419T162707
CREATED:20260316T120035Z
LAST-MODIFIED:20260326T145022Z
UID:10000296-1777147200-1777161600@flordefango.nl
SUMMARY:ZA 25 APR - Modern Tango - DJ Arthur
DESCRIPTION:Modern Tango – DJ Arthur\nDansen\, omhelzen\, verbinden! Ontdek de energie van Moderne Tango bij Salon Flor de Fango. Onze DJ serveert de perfecte mix van traditionele tango (30%)\, traditionele muziek maar dan gespeeld door moderne orkesten (60%) en een vleugje alternatieve klanken. Uiteraard met respect voor de klassieke tanda’s en cortina’s. \nHoud je ogen open voor extra’s! We organiseren vaak workshops\, lezingen of optredens voorafgaand aan de salon. Check de agenda voor de details en laat je meeslepen door de tango! \nDJ Arthur\nDJ Arthur (Abel) is enerzijds een DJ die houdt van traditionele tango\, hij draait de mooiste nummers van de bekende orkesten. Hij verzamelt ook onbekende nummers en onbekende orkesten\, maar die zijn meestal niet goed genoeg voor de salon. Anderzijds is DJ Arthur een wat rebelse DJ. Hij verkent elk muziekgenre op zoek naar fijne\, dansbare nummers voor zijn dansers.  \nZijn eerste dansles was in 1990 en na 12 jaar begon hij met lesgeven. Kort daarna\, in 2003\, draaide hij op zijn eerste salon. Na een korte stop danst en draait hij weer volop. Zijn verzameling muziek is nu bijna 60.000 nummers. De kunst is hier een mooie speellijst uit te maken. \nTicket € 12\, – pay at the entrance/bar.
URL:https://flordefango.nl/evenement/za-25-apr-modern-tango-dj-arthur/
LOCATION:Wezenstraat 5a\, Arnhem\, 6811 CR\, Nederland
CATEGORIES:alle niveaus,demonstratie,Show
ATTACH;FMTTYPE=image/jpeg:https://flordefango.nl/wp-content/uploads/2025/12/2026-Modern-tango-salon.jpg
END:VEVENT
BEGIN:VEVENT
DTSTART;TZID=Europe/Amsterdam:20260427T200000
DTEND;TZID=Europe/Amsterdam:20260428T000000
DTSTAMP:20260419T162707
CREATED:20260326T144513Z
LAST-MODIFIED:20260409T095121Z
UID:10000302-1777320000-1777334400@flordefango.nl
SUMMARY:MA 27 APR - Koningsbal - DJ Bart Wijgergangs
DESCRIPTION:Koningsbal – DJ Bart Wijgergangs\nKom dansen in de oase van rust in de Wezenstraat. Dresscode oranje. \nDJ Bart Wijgergangs\n“Ik kies mijn muziek altijd vanuit een dansersperspectief\, veel muziek om het publiek te dienen\, ik houd ze geïnspireerd en op de dansvloer. De keuze van muziek hangt af van de stemming van het evenement en de ervaring van de dansers. De rijke schat aan tangomuziek biedt volop gelegenheid om te variëren van ritmisch tot meer lyrisch en romantisch. Ik speel graag met de cortina’s als een reset of juist als een verbindend element tussen de tanda’s. Mijn beste feedback is een gevulde dansvloer en een glimlach (Sonrisa) op de gezichten van de dansers. Dat is mijn passie.” \nhttps://www.facebook.com/bart.wijgergangs.9 \nhttps://drive.google.com/file/d/1fDasCpF1EAJIeZPCnsdDoUg4twMBxG0_/view?usp=drivesdk \nTicket € 12\, – pay at the entrance/bar.
URL:https://flordefango.nl/evenement/ma-27-apr-koningsbal-dj-bart-wijgergangs/
LOCATION:Wezenstraat 5a\, Arnhem\, 6811 CR\, Nederland
CATEGORIES:alle niveaus,demonstratie,Show
ATTACH;FMTTYPE=image/jpeg:https://flordefango.nl/wp-content/uploads/2026/03/20260427-oranje-bal-koningsbal.jpg
END:VEVENT
BEGIN:VEVENT
DTSTART;TZID=Europe/Amsterdam:20260530T190000
DTEND;TZID=Europe/Amsterdam:20260531T000000
DTSTAMP:20260419T162707
CREATED:20260326T154304Z
LAST-MODIFIED:20260409T100707Z
UID:10000310-1780167600-1780185600@flordefango.nl
SUMMARY:ZA 30 Mei - Leerlingensalon met workshop en demo - DJ 21
DESCRIPTION:Leerlingensalon met workshop en demo – DJ 21\nProgramma\nOm 19u start de workshop ‘Easy Milonga met enkele Codigo’s’\, prijs workshop inclusief salon: €10\nOm 20u start de salon met DJ 21\, prijs €6\nHosts en workshopgevers van vanavond zijn Monique en Toine. \nWaarom zo’n goedkope workshop?\nNaast een leuk pasje in de Milonga willen we ook graag de belangrijkste Codigo’s\, de gedragsregels op de salon\, onder de aandacht brengen omdat we dat belangrijk vinden voor een fijne sociale dansomgeving.\nDe workshop en salon zijn natuurlijk ook toegankelijk voor de leerlingen van scholen in de omgeving: Adelante (Wageningen)\, El Corte (Nijmegen) Kyrah Human Move (Nijmegen) en Tango Entero (Nijmegen). \nWorkshop en demonstratie: Toine en Monique Straatman\nDJ 21 (Toine Straatman)\n’Wat je stemming ook is\, er is altijd een tango die perfect past’ \nAls DJ denk ik als danser en probeer de perfecte dynamiek en flow te creëren\, speel met stijlen\, varieer de orkesten en zangers uit de rijke wereld van de tangomuziek om ons te inspireren.  Zelfs de cortina’s hebben hun functie….  ze zijn niet alleen een pauze\, maar een brug naar een nieuw dansavontuur. Ik streef naar de energie en dynamiek die ik voelde in de milonga’s van BsAs. \nAls docent uiteraard altijd bezig met de impact van de muziek op de dans\, als DJ heb ik ervaring uitgebouwd bij lokale salons en ben vervolgens gevraagd voor grote events en encuentro’s in binnen- en buitenland. \nDansers gelukkig maken; dat is het enige waar het om gaat als DJ! \nhttps://drive.google.com/file/d/1xrhT3ED09IHFFvFWuda-iXbxGWE0pxPI/view?usp=sharing \nTicket à €6\,- voor de salon\, of €10\,- voor de salon inclusief workshop zijn te koop aan de bar.
URL:https://flordefango.nl/evenement/za-30-mei-leerlingensalon-met-workshop-en-demo-dj-21/
LOCATION:Wezenstraat 5a\, Arnhem\, 6811 CR\, Nederland
CATEGORIES:alle niveaus,demonstratie,Show,Tangocafé | Oefenavond,Workshop
ATTACH;FMTTYPE=image/jpeg:https://flordefango.nl/wp-content/uploads/2026/03/20260530-Leerlingensalon.jpg
END:VEVENT
END:VCALENDAR