BEGIN:VCALENDAR
VERSION:2.0
PRODID:-//Flor de Fango - ECPv6.15.20//NONSGML v1.0//EN
CALSCALE:GREGORIAN
METHOD:PUBLISH
X-ORIGINAL-URL:https://flordefango.nl
X-WR-CALDESC:Evenementen voor Flor de Fango
REFRESH-INTERVAL;VALUE=DURATION:PT1H
X-Robots-Tag:noindex
X-PUBLISHED-TTL:PT1H
BEGIN:VTIMEZONE
TZID:Europe/Amsterdam
BEGIN:DAYLIGHT
TZOFFSETFROM:+0100
TZOFFSETTO:+0200
TZNAME:CEST
DTSTART:20250330T010000
END:DAYLIGHT
BEGIN:STANDARD
TZOFFSETFROM:+0200
TZOFFSETTO:+0100
TZNAME:CET
DTSTART:20251026T010000
END:STANDARD
BEGIN:DAYLIGHT
TZOFFSETFROM:+0100
TZOFFSETTO:+0200
TZNAME:CEST
DTSTART:20260329T010000
END:DAYLIGHT
BEGIN:STANDARD
TZOFFSETFROM:+0200
TZOFFSETTO:+0100
TZNAME:CET
DTSTART:20261025T010000
END:STANDARD
BEGIN:DAYLIGHT
TZOFFSETFROM:+0100
TZOFFSETTO:+0200
TZNAME:CEST
DTSTART:20270328T010000
END:DAYLIGHT
BEGIN:STANDARD
TZOFFSETFROM:+0200
TZOFFSETTO:+0100
TZNAME:CET
DTSTART:20271031T010000
END:STANDARD
END:VTIMEZONE
BEGIN:VEVENT
DTSTART;TZID=Europe/Amsterdam:20260425T200000
DTEND;TZID=Europe/Amsterdam:20260426T000000
DTSTAMP:20260419T150157
CREATED:20260316T120035Z
LAST-MODIFIED:20260326T145022Z
UID:10000296-1777147200-1777161600@flordefango.nl
SUMMARY:ZA 25 APR - Modern Tango - DJ Arthur
DESCRIPTION:Modern Tango – DJ Arthur\nDansen\, omhelzen\, verbinden! Ontdek de energie van Moderne Tango bij Salon Flor de Fango. Onze DJ serveert de perfecte mix van traditionele tango (30%)\, traditionele muziek maar dan gespeeld door moderne orkesten (60%) en een vleugje alternatieve klanken. Uiteraard met respect voor de klassieke tanda’s en cortina’s. \nHoud je ogen open voor extra’s! We organiseren vaak workshops\, lezingen of optredens voorafgaand aan de salon. Check de agenda voor de details en laat je meeslepen door de tango! \nDJ Arthur\nDJ Arthur (Abel) is enerzijds een DJ die houdt van traditionele tango\, hij draait de mooiste nummers van de bekende orkesten. Hij verzamelt ook onbekende nummers en onbekende orkesten\, maar die zijn meestal niet goed genoeg voor de salon. Anderzijds is DJ Arthur een wat rebelse DJ. Hij verkent elk muziekgenre op zoek naar fijne\, dansbare nummers voor zijn dansers.  \nZijn eerste dansles was in 1990 en na 12 jaar begon hij met lesgeven. Kort daarna\, in 2003\, draaide hij op zijn eerste salon. Na een korte stop danst en draait hij weer volop. Zijn verzameling muziek is nu bijna 60.000 nummers. De kunst is hier een mooie speellijst uit te maken. \nTicket € 12\, – pay at the entrance/bar.
URL:https://flordefango.nl/evenement/za-25-apr-modern-tango-dj-arthur/
LOCATION:Wezenstraat 5a\, Arnhem\, 6811 CR\, Nederland
CATEGORIES:alle niveaus,demonstratie,Show
ATTACH;FMTTYPE=image/jpeg:https://flordefango.nl/wp-content/uploads/2025/12/2026-Modern-tango-salon.jpg
END:VEVENT
END:VCALENDAR