BEGIN:VCALENDAR
VERSION:2.0
PRODID:-//Flor de Fango - ECPv6.15.20//NONSGML v1.0//EN
CALSCALE:GREGORIAN
METHOD:PUBLISH
X-WR-CALNAME:Flor de Fango
X-ORIGINAL-URL:https://flordefango.nl
X-WR-CALDESC:Evenementen voor Flor de Fango
REFRESH-INTERVAL;VALUE=DURATION:PT1H
X-Robots-Tag:noindex
X-PUBLISHED-TTL:PT1H
BEGIN:VTIMEZONE
TZID:Europe/Amsterdam
BEGIN:DAYLIGHT
TZOFFSETFROM:+0100
TZOFFSETTO:+0200
TZNAME:CEST
DTSTART:20250330T010000
END:DAYLIGHT
BEGIN:STANDARD
TZOFFSETFROM:+0200
TZOFFSETTO:+0100
TZNAME:CET
DTSTART:20251026T010000
END:STANDARD
BEGIN:DAYLIGHT
TZOFFSETFROM:+0100
TZOFFSETTO:+0200
TZNAME:CEST
DTSTART:20260329T010000
END:DAYLIGHT
BEGIN:STANDARD
TZOFFSETFROM:+0200
TZOFFSETTO:+0100
TZNAME:CET
DTSTART:20261025T010000
END:STANDARD
BEGIN:DAYLIGHT
TZOFFSETFROM:+0100
TZOFFSETTO:+0200
TZNAME:CEST
DTSTART:20270328T010000
END:DAYLIGHT
BEGIN:STANDARD
TZOFFSETFROM:+0200
TZOFFSETTO:+0100
TZNAME:CET
DTSTART:20271031T010000
END:STANDARD
END:VTIMEZONE
BEGIN:VEVENT
DTSTART;TZID=Europe/Amsterdam:20260228T200000
DTEND;TZID=Europe/Amsterdam:20260301T000000
DTSTAMP:20260419T162044
CREATED:20260109T142606Z
LAST-MODIFIED:20260120T145715Z
UID:10000272-1772308800-1772323200@flordefango.nl
SUMMARY:ZA 28 FEB - Modern Tango - DJ Jan
DESCRIPTION:Modern Tango salon met DJ Jan\nDe Tango wordt hier gevierd als levend cultureel erfgoed\, met de nadruk op eigentijdse tangomuziek. De DJ draait 30% traditioneel en 70% moderne orkesten van de 21e eeuw\, neo\, en een beetje non-tango: altijd alles met veel Tango-gevoel.  \nDJ Jan (van IJzendoorn)\nOp een Modern tango avond vormt juist de eigentijdse Tango de kern en staat centraal. In deze nieuwe eeuw gebeurt er veel en verjongt de Tango zich uiteenlopend en sterk. Allerhande invloeden zijn er in terug te vinden van Jazz tot Electronica en van Folklore tot Lounge. Sommige Non-Tango muziek scoort hoog bij het publiek en die verbreding van het palet. Voor alles geldt voor de DJ: zorg voor samenhang en evenwicht. Teveel van het ene en te weinig van het andere creëert chaos terwijl een mooie harmonie er meer recht aan doet om een dansmiddag of avond goed te laten slagen. \nTicket € 12\, – pay at the entrance/bar.
URL:https://flordefango.nl/evenement/za-28-feb-modern-tango-dj-jan/
LOCATION:Wezenstraat 5a\, Arnhem\, 6811 CR\, Nederland
CATEGORIES:alle niveaus,Show
ATTACH;FMTTYPE=image/jpeg:https://flordefango.nl/wp-content/uploads/2025/12/2026-Modern-tango-salon.jpg
END:VEVENT
END:VCALENDAR