BEGIN:VCALENDAR
VERSION:2.0
PRODID:-//Flor de Fango - ECPv6.15.20//NONSGML v1.0//EN
CALSCALE:GREGORIAN
METHOD:PUBLISH
X-WR-CALNAME:Flor de Fango
X-ORIGINAL-URL:https://flordefango.nl
X-WR-CALDESC:Evenementen voor Flor de Fango
REFRESH-INTERVAL;VALUE=DURATION:PT1H
X-Robots-Tag:noindex
X-PUBLISHED-TTL:PT1H
BEGIN:VTIMEZONE
TZID:Europe/Amsterdam
BEGIN:DAYLIGHT
TZOFFSETFROM:+0100
TZOFFSETTO:+0200
TZNAME:CEST
DTSTART:20230326T010000
END:DAYLIGHT
BEGIN:STANDARD
TZOFFSETFROM:+0200
TZOFFSETTO:+0100
TZNAME:CET
DTSTART:20231029T010000
END:STANDARD
BEGIN:DAYLIGHT
TZOFFSETFROM:+0100
TZOFFSETTO:+0200
TZNAME:CEST
DTSTART:20240331T010000
END:DAYLIGHT
BEGIN:STANDARD
TZOFFSETFROM:+0200
TZOFFSETTO:+0100
TZNAME:CET
DTSTART:20241027T010000
END:STANDARD
BEGIN:DAYLIGHT
TZOFFSETFROM:+0100
TZOFFSETTO:+0200
TZNAME:CEST
DTSTART:20250330T010000
END:DAYLIGHT
BEGIN:STANDARD
TZOFFSETFROM:+0200
TZOFFSETTO:+0100
TZNAME:CET
DTSTART:20251026T010000
END:STANDARD
END:VTIMEZONE
BEGIN:VEVENT
DTSTART;TZID=Europe/Amsterdam:20241013T160000
DTEND;TZID=Europe/Amsterdam:20241013T223000
DTSTAMP:20260421T203111
CREATED:20240909T120206Z
LAST-MODIFIED:20240917T141645Z
UID:10000054-1728835200-1728858600@flordefango.nl
SUMMARY:ZO 13 OKT - Pugliese seminar van Michael Lavocah met La Barra  + salon - DJ Michael Lavocah
DESCRIPTION:Pugliese seminar van Michael Lavocah met La Barra + salon – DJ Michael Lavocah\nWe zijn trots een uniek evenement aan te kunnen bieden: een 2 uur durende lezing van Michael Lavocah over de muziek en stijl van Osvaldo Pugliese en tijdgenoten. En dat in samenwerking met Orquesta Típica La Barra\, gespecialiseerd in muziek van Pugliese! Aansluitend is er een salon waarbij Michael als DJ optreedt. \nMichael Lavocah is internationaal erkend expert van Argentijnse tango. Met zijn diepgaande kennis op het gebied van de muziek uit de Gouden Eeuw van de tango is hij een geboren verteller. In zijn lezingen verbindt hij de dansers met de muzikanten die deze prachtige muziek hebben gecreëerd door hun verhalen te vertellen en de relatie tussen hun leven en hun muziek uit te leggen. Daarnaast is Michael auteur van diverse standaardwerken over orkesten uit de Gouden Eeuw en een internationaal veelgevraagd DJ. \nLa Barra heeft inmiddels een reputatie opgebouwd als vertolker van de muziek van het orkest van Osvaldo Pugliese. La Barra heeft afgelopen jaren al meerdere keren presentaties bij Flor de Fango gegeven. In deze unieke samenwerking zal La Barra de lezing van Michael live opluisteren en verrijken met typische tangovoorbeelden\, nummers en fragmenten. \nNa afloop van de lezing is er gelegenheid tot het stellen van vragen en discussie \nProgramma:\n\n16.00 – 18.00 uur: Lecture Michael in samenwerking met orkest La Barra\n18.30 – 22.30 uur: Salon\, DJ Michael Lavocah.\n\nTicket Lecture met La Barra en salon: €30\,-. Voor vrienden van Flor €20\,- \nTicket Salon €10\,-. For sale at the bar \nMaaltijd: Indische rijsttafel €15\, aan de bar te bestellen. EN You can order a simpel meal at the bar. \n\nTips voor reizen\, eten\, slapen in Arnhem? Zie onze pagina Travel\, eat and sleep in Arnhem
URL:https://flordefango.nl/evenement/zo-13-okt-pugliese-seminar-van-michael-lavocah-met-la-barra-salon-dj-michael-lavocah/
LOCATION:Wezenstraat 5a\, Arnhem\, 6811 CR\, Nederland
CATEGORIES:alle niveaus,Salon,Seminar
ATTACH;FMTTYPE=image/jpeg:https://flordefango.nl/wp-content/uploads/2024/09/20241013-Lavocah3.jpeg
END:VEVENT
END:VCALENDAR